BEGIN:VCALENDAR
VERSION:2.0
PRODID:-//Temple Baptist Church - ECPv6.15.20//NONSGML v1.0//EN
CALSCALE:GREGORIAN
METHOD:PUBLISH
X-WR-CALNAME:Temple Baptist Church
X-ORIGINAL-URL:http://www.tbcdubois.org
X-WR-CALDESC:Events for Temple Baptist Church
REFRESH-INTERVAL;VALUE=DURATION:PT1H
X-Robots-Tag:noindex
X-PUBLISHED-TTL:PT1H
BEGIN:VTIMEZONE
TZID:America/New_York
BEGIN:DAYLIGHT
TZOFFSETFROM:-0500
TZOFFSETTO:-0400
TZNAME:EDT
DTSTART:20240310T070000
END:DAYLIGHT
BEGIN:STANDARD
TZOFFSETFROM:-0400
TZOFFSETTO:-0500
TZNAME:EST
DTSTART:20241103T060000
END:STANDARD
BEGIN:DAYLIGHT
TZOFFSETFROM:-0500
TZOFFSETTO:-0400
TZNAME:EDT
DTSTART:20250309T070000
END:DAYLIGHT
BEGIN:STANDARD
TZOFFSETFROM:-0400
TZOFFSETTO:-0500
TZNAME:EST
DTSTART:20251102T060000
END:STANDARD
BEGIN:DAYLIGHT
TZOFFSETFROM:-0500
TZOFFSETTO:-0400
TZNAME:EDT
DTSTART:20260308T070000
END:DAYLIGHT
BEGIN:STANDARD
TZOFFSETFROM:-0400
TZOFFSETTO:-0500
TZNAME:EST
DTSTART:20261101T060000
END:STANDARD
END:VTIMEZONE
BEGIN:VEVENT
DTSTART;TZID=America/New_York:20250410T183000
DTEND;TZID=America/New_York:20250410T193000
DTSTAMP:20260422T185450
CREATED:20250408T004509Z
LAST-MODIFIED:20250408T004509Z
UID:6762-1744309800-1744313400@www.tbcdubois.org
SUMMARY:Men's Bible Study
DESCRIPTION:Join us for a time of fellowship as we learn from Dan Seaborn.  Here is a little more about Dan: \n\n\nDan Seaborn is the founder of Winning At Home and an engaging and powerful speaker. His comfortable\, humorous communication style allows him to connect easily with audiences of all ages. Through energetic and memorable presentations\, Dan talks openly about family life—often through revealing his own struggles or failures. His experience with family comes from being married for more than 40 years and raising four kids with his wife\, Jane.\n\n\n\n\nAs the featured speaker at various large-scale events all over the country\, Dan has earned recognition as an influential and passionate communicator who uses practical illustrations and real-life examples to teach others how to win at home. \nIn addition to being an international speaker and president of the organization\, Dan serves as the leader for the Marriage & Family Division of the American Association of Christian Counselors. He is the author of 16 books and has established himself as a media personality on over 350 radio stations across the nation. He and Jane have been married for over 40 years and have four adult children and eight grandchildren.
URL:http://www.tbcdubois.org/event/mens-bible-study-54/
LOCATION:The Next Step Ministries\, 412 Willow Alley\, Reynoldsville\, PA\, 15851\, United States
END:VEVENT
END:VCALENDAR