BEGIN:VCALENDAR
VERSION:2.0
PRODID:-//Temple Baptist Church - ECPv6.15.20//NONSGML v1.0//EN
CALSCALE:GREGORIAN
METHOD:PUBLISH
X-WR-CALNAME:Temple Baptist Church
X-ORIGINAL-URL:http://www.tbcdubois.org
X-WR-CALDESC:Events for Temple Baptist Church
REFRESH-INTERVAL;VALUE=DURATION:PT1H
X-Robots-Tag:noindex
X-PUBLISHED-TTL:PT1H
BEGIN:VTIMEZONE
TZID:America/New_York
BEGIN:DAYLIGHT
TZOFFSETFROM:-0500
TZOFFSETTO:-0400
TZNAME:EDT
DTSTART:20240310T070000
END:DAYLIGHT
BEGIN:STANDARD
TZOFFSETFROM:-0400
TZOFFSETTO:-0500
TZNAME:EST
DTSTART:20241103T060000
END:STANDARD
BEGIN:DAYLIGHT
TZOFFSETFROM:-0500
TZOFFSETTO:-0400
TZNAME:EDT
DTSTART:20250309T070000
END:DAYLIGHT
BEGIN:STANDARD
TZOFFSETFROM:-0400
TZOFFSETTO:-0500
TZNAME:EST
DTSTART:20251102T060000
END:STANDARD
BEGIN:DAYLIGHT
TZOFFSETFROM:-0500
TZOFFSETTO:-0400
TZNAME:EDT
DTSTART:20260308T070000
END:DAYLIGHT
BEGIN:STANDARD
TZOFFSETFROM:-0400
TZOFFSETTO:-0500
TZNAME:EST
DTSTART:20261101T060000
END:STANDARD
END:VTIMEZONE
BEGIN:VEVENT
DTSTART;TZID=America/New_York:20250424T180000
DTEND;TZID=America/New_York:20250424T200000
DTSTAMP:20260422T185449
CREATED:20250406T214718Z
LAST-MODIFIED:20250407T004546Z
UID:6653-1745517600-1745524800@www.tbcdubois.org
SUMMARY:GriefShare
DESCRIPTION:Do you need help dealing with grief?  GriefShare is a here for you!  We warmly invite you to join us at Temple Baptist Church April 17th through July 10th from 6 to 8 P.M.  We will meet for a thirteen-week program.  If you would like to help out with food or snacks\, please sign up on the church’s bulletin board! \n  \nIf you want to know more about GriefShare\, please check out their website at Need Help Dealing with Grief? – GriefShare
URL:http://www.tbcdubois.org/event/griefshare-2/
END:VEVENT
BEGIN:VEVENT
DTSTART;TZID=America/New_York:20250424T183000
DTEND;TZID=America/New_York:20250424T193000
DTSTAMP:20260422T185449
CREATED:20250408T004607Z
LAST-MODIFIED:20250408T004607Z
UID:6765-1745519400-1745523000@www.tbcdubois.org
SUMMARY:Men's Bible Study
DESCRIPTION:Join us for a time of fellowship as we learn from Dan Seaborn.  Here is a little more about Dan: \n\n\nDan Seaborn is the founder of Winning At Home and an engaging and powerful speaker. His comfortable\, humorous communication style allows him to connect easily with audiences of all ages. Through energetic and memorable presentations\, Dan talks openly about family life—often through revealing his own struggles or failures. His experience with family comes from being married for more than 40 years and raising four kids with his wife\, Jane.\n\n\n\n\nAs the featured speaker at various large-scale events all over the country\, Dan has earned recognition as an influential and passionate communicator who uses practical illustrations and real-life examples to teach others how to win at home. \nIn addition to being an international speaker and president of the organization\, Dan serves as the leader for the Marriage & Family Division of the American Association of Christian Counselors. He is the author of 16 books and has established himself as a media personality on over 350 radio stations across the nation. He and Jane have been married for over 40 years and have four adult children and eight grandchildren.
URL:http://www.tbcdubois.org/event/mens-bible-study-55/
LOCATION:The Next Step Ministries\, 412 Willow Alley\, Reynoldsville\, PA\, 15851\, United States
END:VEVENT
END:VCALENDAR