BEGIN:VCALENDAR
VERSION:2.0
PRODID:-//Temple Baptist Church - ECPv6.15.20//NONSGML v1.0//EN
CALSCALE:GREGORIAN
METHOD:PUBLISH
X-WR-CALNAME:Temple Baptist Church
X-ORIGINAL-URL:http://www.tbcdubois.org
X-WR-CALDESC:Events for Temple Baptist Church
REFRESH-INTERVAL;VALUE=DURATION:PT1H
X-Robots-Tag:noindex
X-PUBLISHED-TTL:PT1H
BEGIN:VTIMEZONE
TZID:America/New_York
BEGIN:DAYLIGHT
TZOFFSETFROM:-0500
TZOFFSETTO:-0400
TZNAME:EDT
DTSTART:20240310T070000
END:DAYLIGHT
BEGIN:STANDARD
TZOFFSETFROM:-0400
TZOFFSETTO:-0500
TZNAME:EST
DTSTART:20241103T060000
END:STANDARD
BEGIN:DAYLIGHT
TZOFFSETFROM:-0500
TZOFFSETTO:-0400
TZNAME:EDT
DTSTART:20250309T070000
END:DAYLIGHT
BEGIN:STANDARD
TZOFFSETFROM:-0400
TZOFFSETTO:-0500
TZNAME:EST
DTSTART:20251102T060000
END:STANDARD
BEGIN:DAYLIGHT
TZOFFSETFROM:-0500
TZOFFSETTO:-0400
TZNAME:EDT
DTSTART:20260308T070000
END:DAYLIGHT
BEGIN:STANDARD
TZOFFSETFROM:-0400
TZOFFSETTO:-0500
TZNAME:EST
DTSTART:20261101T060000
END:STANDARD
END:VTIMEZONE
BEGIN:VEVENT
DTSTART;TZID=America/New_York:20250504T110000
DTEND;TZID=America/New_York:20250504T190000
DTSTAMP:20260422T203350
CREATED:20250428T163314Z
LAST-MODIFIED:20250428T163314Z
UID:6984-1746356400-1746385200@www.tbcdubois.org
SUMMARY:Church Service & OCC Collection
DESCRIPTION:Join us for church today for the morning and evening service! \nFor the Month of May\, we will be collecting hair items for OCC!  Items can include a comb\, brush\, hair ties\, etc.
URL:http://www.tbcdubois.org/event/church-service-occ-collection/
END:VEVENT
END:VCALENDAR