BEGIN:VCALENDAR
VERSION:2.0
PRODID:-//Temple Baptist Church - ECPv6.15.20//NONSGML v1.0//EN
CALSCALE:GREGORIAN
METHOD:PUBLISH
X-WR-CALNAME:Temple Baptist Church
X-ORIGINAL-URL:http://www.tbcdubois.org
X-WR-CALDESC:Events for Temple Baptist Church
REFRESH-INTERVAL;VALUE=DURATION:PT1H
X-Robots-Tag:noindex
X-PUBLISHED-TTL:PT1H
BEGIN:VTIMEZONE
TZID:America/New_York
BEGIN:DAYLIGHT
TZOFFSETFROM:-0500
TZOFFSETTO:-0400
TZNAME:EDT
DTSTART:20240310T070000
END:DAYLIGHT
BEGIN:STANDARD
TZOFFSETFROM:-0400
TZOFFSETTO:-0500
TZNAME:EST
DTSTART:20241103T060000
END:STANDARD
BEGIN:DAYLIGHT
TZOFFSETFROM:-0500
TZOFFSETTO:-0400
TZNAME:EDT
DTSTART:20250309T070000
END:DAYLIGHT
BEGIN:STANDARD
TZOFFSETFROM:-0400
TZOFFSETTO:-0500
TZNAME:EST
DTSTART:20251102T060000
END:STANDARD
BEGIN:DAYLIGHT
TZOFFSETFROM:-0500
TZOFFSETTO:-0400
TZNAME:EDT
DTSTART:20260308T070000
END:DAYLIGHT
BEGIN:STANDARD
TZOFFSETFROM:-0400
TZOFFSETTO:-0500
TZNAME:EST
DTSTART:20261101T060000
END:STANDARD
END:VTIMEZONE
BEGIN:VEVENT
DTSTART;TZID=America/New_York:20250516T100000
DTEND;TZID=America/New_York:20250516T110000
DTSTAMP:20260422T203413
CREATED:20250420T220457Z
LAST-MODIFIED:20250420T220457Z
UID:6943-1747389600-1747393200@www.tbcdubois.org
SUMMARY:Women's Morning Bible Study
DESCRIPTION:Jesus & Women by Kristi McLelland \n \nUnderstand Jesus More Deeply by Studying First-Century History and Culture\nA 7-Session Study by Kristi McLelland\nImagine walking the dusty roads of Galilee with Jesus of Nazareth—braving jostling crowds just to touch the edge of His cloak and hear Him say\, “Take heart\, daughter\, your faith has healed you.” Those words\, once meant to comfort a hurting woman’s soul thousands of years ago\, were also meant for you. \nJoin biblical culturalist Kristi McLelland on those dusty roads as she transports you back to Jesus’ world\, stepping into the footsteps of the women who came face to face with the living God. Over 7 sessions\, examine the historical and cultural climate of first-century Middle Eastern society to not only understand Jesus more deeply but to fuel your worship of Him today. \nThis encouragement from the lips of Jesus comforted a hurting woman’s soul thousands of years ago.  It offers a similar gospel hope to you today too!  Come and join us May 9th at 10 A.M. at the church!
URL:http://www.tbcdubois.org/event/womens-morning-bible-study-9/
END:VEVENT
END:VCALENDAR