BEGIN:VCALENDAR
VERSION:2.0
PRODID:-//Temple Baptist Church - ECPv6.15.20//NONSGML v1.0//EN
CALSCALE:GREGORIAN
METHOD:PUBLISH
X-WR-CALNAME:Temple Baptist Church
X-ORIGINAL-URL:http://www.tbcdubois.org
X-WR-CALDESC:Events for Temple Baptist Church
REFRESH-INTERVAL;VALUE=DURATION:PT1H
X-Robots-Tag:noindex
X-PUBLISHED-TTL:PT1H
BEGIN:VTIMEZONE
TZID:America/New_York
BEGIN:DAYLIGHT
TZOFFSETFROM:-0500
TZOFFSETTO:-0400
TZNAME:EDT
DTSTART:20210314T070000
END:DAYLIGHT
BEGIN:STANDARD
TZOFFSETFROM:-0400
TZOFFSETTO:-0500
TZNAME:EST
DTSTART:20211107T060000
END:STANDARD
BEGIN:DAYLIGHT
TZOFFSETFROM:-0500
TZOFFSETTO:-0400
TZNAME:EDT
DTSTART:20220313T070000
END:DAYLIGHT
BEGIN:STANDARD
TZOFFSETFROM:-0400
TZOFFSETTO:-0500
TZNAME:EST
DTSTART:20221106T060000
END:STANDARD
BEGIN:DAYLIGHT
TZOFFSETFROM:-0500
TZOFFSETTO:-0400
TZNAME:EDT
DTSTART:20230312T070000
END:DAYLIGHT
BEGIN:STANDARD
TZOFFSETFROM:-0400
TZOFFSETTO:-0500
TZNAME:EST
DTSTART:20231105T060000
END:STANDARD
END:VTIMEZONE
BEGIN:VEVENT
DTSTART;TZID=America/New_York:20220929T180000
DTEND;TZID=America/New_York:20220929T200000
DTSTAMP:20260421T030827
CREATED:20220823T215047Z
LAST-MODIFIED:20220823T215047Z
UID:5193-1664474400-1664481600@www.tbcdubois.org
SUMMARY:Grief Share
DESCRIPTION:
URL:http://www.tbcdubois.org/event/grief-share-9/
LOCATION:Temple Baptist Church Fellowship Hall\, 590 Lincoln Drive\, DuBois\, PA\, 15801\, United States
END:VEVENT
BEGIN:VEVENT
DTSTART;TZID=America/New_York:20220929T180000
DTEND;TZID=America/New_York:20220929T200000
DTSTAMP:20260421T030827
CREATED:20220823T215047Z
LAST-MODIFIED:20220823T215047Z
UID:5991-1664474400-1664481600@www.tbcdubois.org
SUMMARY:Grief Share
DESCRIPTION:
URL:http://www.tbcdubois.org/event/grief-share-9-2/
LOCATION:Temple Baptist Church Fellowship Hall\, 590 Lincoln Drive\, DuBois\, PA\, 15801\, United States
END:VEVENT
BEGIN:VEVENT
DTSTART;TZID=America/New_York:20220929T180000
DTEND;TZID=America/New_York:20220929T180000
DTSTAMP:20260421T030827
CREATED:20220823T215527Z
LAST-MODIFIED:20220823T220023Z
UID:5201-1664474400-1664474400@www.tbcdubois.org
SUMMARY:Men's Bible Study
DESCRIPTION:
URL:http://www.tbcdubois.org/event/mens-bible-study-27/
LOCATION:The Next Step Ministries\, 412 Willow Alley\, Reynoldsville\, PA\, 15851\, United States
ORGANIZER;CN="Jim Morrison":MAILTO:tbcyouth@windstream.net
END:VEVENT
BEGIN:VEVENT
DTSTART;TZID=America/New_York:20220929T180000
DTEND;TZID=America/New_York:20220929T180000
DTSTAMP:20260421T030827
CREATED:20220823T215527Z
LAST-MODIFIED:20220823T215527Z
UID:5995-1664474400-1664474400@www.tbcdubois.org
SUMMARY:Men's Bible Study
DESCRIPTION:
URL:http://www.tbcdubois.org/event/mens-bible-study-27-2/
LOCATION:The Next Step Ministries\, 412 Willow Alley\, Reynoldsville\, PA\, 15851\, United States
ORGANIZER;CN="Jim Morrison":MAILTO:tbcyouth@windstream.net
END:VEVENT
BEGIN:VEVENT
DTSTART;TZID=America/New_York:20220922T180000
DTEND;TZID=America/New_York:20220922T200000
DTSTAMP:20260421T030827
CREATED:20220823T214940Z
LAST-MODIFIED:20220823T215141Z
UID:5191-1663869600-1663876800@www.tbcdubois.org
SUMMARY:Grief Share
DESCRIPTION:
URL:http://www.tbcdubois.org/event/grief-share-8/
LOCATION:Temple Baptist Church Fellowship Hall\, 590 Lincoln Drive\, DuBois\, PA\, 15801\, United States
END:VEVENT
BEGIN:VEVENT
DTSTART;TZID=America/New_York:20220922T180000
DTEND;TZID=America/New_York:20220922T200000
DTSTAMP:20260421T030827
CREATED:20220823T214940Z
LAST-MODIFIED:20220823T214940Z
UID:5990-1663869600-1663876800@www.tbcdubois.org
SUMMARY:Grief Share
DESCRIPTION:
URL:http://www.tbcdubois.org/event/grief-share-8-2/
LOCATION:Temple Baptist Church Fellowship Hall\, 590 Lincoln Drive\, DuBois\, PA\, 15801\, United States
END:VEVENT
BEGIN:VEVENT
DTSTART;TZID=America/New_York:20220920T183000
DTEND;TZID=America/New_York:20220920T183000
DTSTAMP:20260421T030827
CREATED:20220823T220403Z
LAST-MODIFIED:20220902T192440Z
UID:5210-1663698600-1663698600@www.tbcdubois.org
SUMMARY:Women's Bible Study
DESCRIPTION:
URL:http://www.tbcdubois.org/event/womens-bible-study-5/
LOCATION:The Next Step Ministries\, 412 Willow Alley\, Reynoldsville\, PA\, 15851\, United States
ORGANIZER;CN="Teresa Morrison":MAILTO:thenextstep@comcast.net
END:VEVENT
BEGIN:VEVENT
DTSTART;TZID=America/New_York:20220920T183000
DTEND;TZID=America/New_York:20220920T183000
DTSTAMP:20260421T030827
CREATED:20220823T220403Z
LAST-MODIFIED:20220823T220403Z
UID:5997-1663698600-1663698600@www.tbcdubois.org
SUMMARY:Women's Bible Study
DESCRIPTION:
URL:http://www.tbcdubois.org/event/womens-bible-study-5-2/
LOCATION:The Next Step Ministries\, 412 Willow Alley\, Reynoldsville\, PA\, 15851\, United States
ORGANIZER;CN="Teresa Morrison":MAILTO:thenextstep@comcast.net
END:VEVENT
BEGIN:VEVENT
DTSTART;TZID=America/New_York:20220915T180000
DTEND;TZID=America/New_York:20220915T200000
DTSTAMP:20260421T030827
CREATED:20220823T214847Z
LAST-MODIFIED:20220823T215120Z
UID:5189-1663264800-1663272000@www.tbcdubois.org
SUMMARY:Grief Share
DESCRIPTION:
URL:http://www.tbcdubois.org/event/grief-share-7/
LOCATION:Temple Baptist Church Fellowship Hall\, 590 Lincoln Drive\, DuBois\, PA\, 15801\, United States
END:VEVENT
BEGIN:VEVENT
DTSTART;TZID=America/New_York:20220915T180000
DTEND;TZID=America/New_York:20220915T200000
DTSTAMP:20260421T030827
CREATED:20220823T214847Z
LAST-MODIFIED:20220823T214847Z
UID:5989-1663264800-1663272000@www.tbcdubois.org
SUMMARY:Grief Share
DESCRIPTION:
URL:http://www.tbcdubois.org/event/grief-share-7-2/
LOCATION:Temple Baptist Church Fellowship Hall\, 590 Lincoln Drive\, DuBois\, PA\, 15801\, United States
END:VEVENT
BEGIN:VEVENT
DTSTART;TZID=America/New_York:20220915T180000
DTEND;TZID=America/New_York:20220915T180000
DTSTAMP:20260421T030827
CREATED:20220823T215439Z
LAST-MODIFIED:20220823T220048Z
UID:5199-1663264800-1663264800@www.tbcdubois.org
SUMMARY:Men's Bible Study
DESCRIPTION:
URL:http://www.tbcdubois.org/event/mens-bible-study-25/
LOCATION:The Next Step Ministries\, 412 Willow Alley\, Reynoldsville\, PA\, 15851\, United States
ORGANIZER;CN="Jim Morrison":MAILTO:tbcyouth@windstream.net
END:VEVENT
BEGIN:VEVENT
DTSTART;TZID=America/New_York:20220915T180000
DTEND;TZID=America/New_York:20220915T180000
DTSTAMP:20260421T030827
CREATED:20220823T215439Z
LAST-MODIFIED:20220823T215439Z
UID:5994-1663264800-1663264800@www.tbcdubois.org
SUMMARY:Men's Bible Study
DESCRIPTION:
URL:http://www.tbcdubois.org/event/mens-bible-study-25-2/
LOCATION:The Next Step Ministries\, 412 Willow Alley\, Reynoldsville\, PA\, 15851\, United States
ORGANIZER;CN="Jim Morrison":MAILTO:tbcyouth@windstream.net
END:VEVENT
BEGIN:VEVENT
DTSTART;TZID=America/New_York:20220911T153000
DTEND;TZID=America/New_York:20220911T153000
DTSTAMP:20260421T030827
CREATED:20220823T215839Z
LAST-MODIFIED:20220823T215839Z
UID:5204-1662910200-1662910200@www.tbcdubois.org
SUMMARY:Church Membership Classes
DESCRIPTION:
URL:http://www.tbcdubois.org/event/church-membership-classes/
LOCATION:Temple Baptist Church Fellowship Hall\, 590 Lincoln Drive\, DuBois\, PA\, 15801\, United States
END:VEVENT
BEGIN:VEVENT
DTSTART;TZID=America/New_York:20220911T153000
DTEND;TZID=America/New_York:20220911T153000
DTSTAMP:20260421T030827
CREATED:20220823T215839Z
LAST-MODIFIED:20220823T215839Z
UID:5996-1662910200-1662910200@www.tbcdubois.org
SUMMARY:Church Membership Classes
DESCRIPTION:
URL:http://www.tbcdubois.org/event/church-membership-classes-2/
LOCATION:Temple Baptist Church Fellowship Hall\, 590 Lincoln Drive\, DuBois\, PA\, 15801\, United States
END:VEVENT
BEGIN:VEVENT
DTSTART;TZID=America/New_York:20220908T180000
DTEND;TZID=America/New_York:20220908T200000
DTSTAMP:20260421T030827
CREATED:20220823T214605Z
LAST-MODIFIED:20220823T214605Z
UID:5187-1662660000-1662667200@www.tbcdubois.org
SUMMARY:Grief Share
DESCRIPTION:
URL:http://www.tbcdubois.org/event/grief-share-6/
LOCATION:Temple Baptist Church Fellowship Hall\, 590 Lincoln Drive\, DuBois\, PA\, 15801\, United States
END:VEVENT
BEGIN:VEVENT
DTSTART;TZID=America/New_York:20220908T180000
DTEND;TZID=America/New_York:20220908T200000
DTSTAMP:20260421T030827
CREATED:20220823T214605Z
LAST-MODIFIED:20220823T214605Z
UID:5988-1662660000-1662667200@www.tbcdubois.org
SUMMARY:Grief Share
DESCRIPTION:
URL:http://www.tbcdubois.org/event/grief-share-6-2/
LOCATION:Temple Baptist Church Fellowship Hall\, 590 Lincoln Drive\, DuBois\, PA\, 15801\, United States
END:VEVENT
BEGIN:VEVENT
DTSTART;TZID=America/New_York:20220908T180000
DTEND;TZID=America/New_York:20220908T180000
DTSTAMP:20260421T030827
CREATED:20220823T215347Z
LAST-MODIFIED:20220823T220120Z
UID:5197-1662660000-1662660000@www.tbcdubois.org
SUMMARY:Men's Bible Study
DESCRIPTION:
URL:http://www.tbcdubois.org/event/mens-bible-study-24/
LOCATION:The Next Step Ministries\, 412 Willow Alley\, Reynoldsville\, PA\, 15851\, United States
ORGANIZER;CN="Jim Morrison":MAILTO:tbcyouth@windstream.net
END:VEVENT
BEGIN:VEVENT
DTSTART;TZID=America/New_York:20220908T180000
DTEND;TZID=America/New_York:20220908T180000
DTSTAMP:20260421T030827
CREATED:20220823T215347Z
LAST-MODIFIED:20220823T215347Z
UID:5993-1662660000-1662660000@www.tbcdubois.org
SUMMARY:Men's Bible Study
DESCRIPTION:
URL:http://www.tbcdubois.org/event/mens-bible-study-24-2/
LOCATION:The Next Step Ministries\, 412 Willow Alley\, Reynoldsville\, PA\, 15851\, United States
ORGANIZER;CN="Jim Morrison":MAILTO:tbcyouth@windstream.net
END:VEVENT
BEGIN:VEVENT
DTSTART;TZID=America/New_York:20220906T183000
DTEND;TZID=America/New_York:20220906T183000
DTSTAMP:20260421T030827
CREATED:20220824T010057Z
LAST-MODIFIED:20220824T010057Z
UID:5212-1662489000-1662489000@www.tbcdubois.org
SUMMARY:Women's Bible Study
DESCRIPTION:
URL:http://www.tbcdubois.org/event/womens-bible-study-3/
LOCATION:The Next Step Ministries\, 412 Willow Alley\, Reynoldsville\, PA\, 15851\, United States
END:VEVENT
BEGIN:VEVENT
DTSTART;TZID=America/New_York:20220906T183000
DTEND;TZID=America/New_York:20220906T183000
DTSTAMP:20260421T030827
CREATED:20220824T010057Z
LAST-MODIFIED:20220824T010057Z
UID:5998-1662489000-1662489000@www.tbcdubois.org
SUMMARY:Women's Bible Study
DESCRIPTION:
URL:http://www.tbcdubois.org/event/womens-bible-study-3-2/
LOCATION:The Next Step Ministries\, 412 Willow Alley\, Reynoldsville\, PA\, 15851\, United States
END:VEVENT
BEGIN:VEVENT
DTSTART;TZID=America/New_York:20220901T180000
DTEND;TZID=America/New_York:20220901T200000
DTSTAMP:20260421T030827
CREATED:20220823T214517Z
LAST-MODIFIED:20220823T214517Z
UID:5185-1662055200-1662062400@www.tbcdubois.org
SUMMARY:Grief Share
DESCRIPTION:
URL:http://www.tbcdubois.org/event/grief-share-5/
LOCATION:Temple Baptist Church Fellowship Hall\, 590 Lincoln Drive\, DuBois\, PA\, 15801\, United States
END:VEVENT
BEGIN:VEVENT
DTSTART;TZID=America/New_York:20220901T180000
DTEND;TZID=America/New_York:20220901T200000
DTSTAMP:20260421T030827
CREATED:20220823T214517Z
LAST-MODIFIED:20220823T214517Z
UID:5987-1662055200-1662062400@www.tbcdubois.org
SUMMARY:Grief Share
DESCRIPTION:
URL:http://www.tbcdubois.org/event/grief-share-5-2/
LOCATION:Temple Baptist Church Fellowship Hall\, 590 Lincoln Drive\, DuBois\, PA\, 15801\, United States
END:VEVENT
BEGIN:VEVENT
DTSTART;TZID=America/New_York:20220825T180000
DTEND;TZID=America/New_York:20220825T200000
DTSTAMP:20260421T030827
CREATED:20220801T021848Z
LAST-MODIFIED:20220801T021853Z
UID:5160-1661450400-1661457600@www.tbcdubois.org
SUMMARY:Grief Share
DESCRIPTION:
URL:http://www.tbcdubois.org/event/grief-share-4/
LOCATION:Temple Baptist Church Fellowship Hall\, 590 Lincoln Drive\, DuBois\, PA\, 15801\, United States
END:VEVENT
BEGIN:VEVENT
DTSTART;TZID=America/New_York:20220825T180000
DTEND;TZID=America/New_York:20220825T200000
DTSTAMP:20260421T030827
CREATED:20220801T021848Z
LAST-MODIFIED:20220801T021848Z
UID:5985-1661450400-1661457600@www.tbcdubois.org
SUMMARY:Grief Share
DESCRIPTION:
URL:http://www.tbcdubois.org/event/grief-share-4-2/
LOCATION:Temple Baptist Church Fellowship Hall\, 590 Lincoln Drive\, DuBois\, PA\, 15801\, United States
END:VEVENT
BEGIN:VEVENT
DTSTART;TZID=America/New_York:20220820T080000
DTEND;TZID=America/New_York:20220820T080000
DTSTAMP:20260421T030827
CREATED:20220807T214055Z
LAST-MODIFIED:20220807T214109Z
UID:5169-1660982400-1660982400@www.tbcdubois.org
SUMMARY:Men's Prayer Breakfast
DESCRIPTION:Come join us for food and fellowship
URL:http://www.tbcdubois.org/event/mens-prayer-breakfast-8/
LOCATION:Temple Baptist Church Fellowship Hall\, 590 Lincoln Drive\, DuBois\, PA\, 15801\, United States
END:VEVENT
BEGIN:VEVENT
DTSTART;TZID=America/New_York:20220820T080000
DTEND;TZID=America/New_York:20220820T080000
DTSTAMP:20260421T030827
CREATED:20220807T214055Z
LAST-MODIFIED:20220807T214055Z
UID:5986-1660982400-1660982400@www.tbcdubois.org
SUMMARY:Men's Prayer Breakfast
DESCRIPTION:Come join us for food and fellowship
URL:http://www.tbcdubois.org/event/mens-prayer-breakfast-8-2/
LOCATION:Temple Baptist Church Fellowship Hall\, 590 Lincoln Drive\, DuBois\, PA\, 15801\, United States
END:VEVENT
BEGIN:VEVENT
DTSTART;TZID=America/New_York:20220818T180000
DTEND;TZID=America/New_York:20220818T200000
DTSTAMP:20260421T030827
CREATED:20220801T021757Z
LAST-MODIFIED:20220801T021803Z
UID:5158-1660845600-1660852800@www.tbcdubois.org
SUMMARY:Grief Share
DESCRIPTION:
URL:http://www.tbcdubois.org/event/grief-share-3/
LOCATION:Temple Baptist Church Fellowship Hall\, 590 Lincoln Drive\, DuBois\, PA\, 15801\, United States
END:VEVENT
BEGIN:VEVENT
DTSTART;TZID=America/New_York:20220818T180000
DTEND;TZID=America/New_York:20220818T200000
DTSTAMP:20260421T030827
CREATED:20220801T021757Z
LAST-MODIFIED:20220801T021757Z
UID:5984-1660845600-1660852800@www.tbcdubois.org
SUMMARY:Grief Share
DESCRIPTION:
URL:http://www.tbcdubois.org/event/grief-share-3-2/
LOCATION:Temple Baptist Church Fellowship Hall\, 590 Lincoln Drive\, DuBois\, PA\, 15801\, United States
END:VEVENT
BEGIN:VEVENT
DTSTART;TZID=America/New_York:20220818T180000
DTEND;TZID=America/New_York:20220818T180000
DTSTAMP:20260421T030827
CREATED:20220801T021222Z
LAST-MODIFIED:20220801T021228Z
UID:5152-1660845600-1660845600@www.tbcdubois.org
SUMMARY:Men's Bible Study
DESCRIPTION:Come join us for a great time of fellowship and God’s word.
URL:http://www.tbcdubois.org/event/mens-bible-study-23/
LOCATION:The Next Step Ministries\, 412 Willow Alley\, Reynoldsville\, PA\, 15851\, United States
END:VEVENT
BEGIN:VEVENT
DTSTART;TZID=America/New_York:20220818T180000
DTEND;TZID=America/New_York:20220818T180000
DTSTAMP:20260421T030827
CREATED:20220801T021222Z
LAST-MODIFIED:20220801T021222Z
UID:5981-1660845600-1660845600@www.tbcdubois.org
SUMMARY:Men's Bible Study
DESCRIPTION:Come join us for a great time of fellowship and God’s word.
URL:http://www.tbcdubois.org/event/mens-bible-study-23-2/
LOCATION:The Next Step Ministries\, 412 Willow Alley\, Reynoldsville\, PA\, 15851\, United States
END:VEVENT
END:VCALENDAR