BEGIN:VCALENDAR
VERSION:2.0
PRODID:-//Temple Baptist Church - ECPv6.15.20//NONSGML v1.0//EN
CALSCALE:GREGORIAN
METHOD:PUBLISH
X-WR-CALNAME:Temple Baptist Church
X-ORIGINAL-URL:http://www.tbcdubois.org
X-WR-CALDESC:Events for Temple Baptist Church
REFRESH-INTERVAL;VALUE=DURATION:PT1H
X-Robots-Tag:noindex
X-PUBLISHED-TTL:PT1H
BEGIN:VTIMEZONE
TZID:America/New_York
BEGIN:DAYLIGHT
TZOFFSETFROM:-0500
TZOFFSETTO:-0400
TZNAME:EDT
DTSTART:20210314T070000
END:DAYLIGHT
BEGIN:STANDARD
TZOFFSETFROM:-0400
TZOFFSETTO:-0500
TZNAME:EST
DTSTART:20211107T060000
END:STANDARD
BEGIN:DAYLIGHT
TZOFFSETFROM:-0500
TZOFFSETTO:-0400
TZNAME:EDT
DTSTART:20220313T070000
END:DAYLIGHT
BEGIN:STANDARD
TZOFFSETFROM:-0400
TZOFFSETTO:-0500
TZNAME:EST
DTSTART:20221106T060000
END:STANDARD
BEGIN:DAYLIGHT
TZOFFSETFROM:-0500
TZOFFSETTO:-0400
TZNAME:EDT
DTSTART:20230312T070000
END:DAYLIGHT
BEGIN:STANDARD
TZOFFSETFROM:-0400
TZOFFSETTO:-0500
TZNAME:EST
DTSTART:20231105T060000
END:STANDARD
END:VTIMEZONE
BEGIN:VEVENT
DTSTART;TZID=America/New_York:20221118T170000
DTEND;TZID=America/New_York:20221118T193000
DTSTAMP:20260423T180956
CREATED:20221031T212837Z
LAST-MODIFIED:20221031T213534Z
UID:5342-1668790800-1668799800@www.tbcdubois.org
SUMMARY:Operation Christmas Child Shoebox Dropoff
DESCRIPTION:For more information call 814-591-8328
URL:http://www.tbcdubois.org/event/operation-christmas-child-shoebox-dropoff-5/
LOCATION:Temple Baptist Church Sanctuary\, 590 Lincoln Drive\, DuBois\, PA\, 15801\, United States
END:VEVENT
BEGIN:VEVENT
DTSTART;TZID=America/New_York:20221118T170000
DTEND;TZID=America/New_York:20221118T193000
DTSTAMP:20260423T180956
CREATED:20221031T212837Z
LAST-MODIFIED:20221031T212837Z
UID:6026-1668790800-1668799800@www.tbcdubois.org
SUMMARY:Operation Christmas Child Shoebox Dropoff
DESCRIPTION:For more information call 814-591-8328
URL:http://www.tbcdubois.org/event/operation-christmas-child-shoebox-dropoff-5-2/
LOCATION:Temple Baptist Church Sanctuary\, 590 Lincoln Drive\, DuBois\, PA\, 15801\, United States
END:VEVENT
BEGIN:VEVENT
DTSTART;TZID=America/New_York:20221118T100000
DTEND;TZID=America/New_York:20221118T100000
DTSTAMP:20260423T180956
CREATED:20221031T011200Z
LAST-MODIFIED:20221031T011200Z
UID:5322-1668765600-1668765600@www.tbcdubois.org
SUMMARY:Women's Bible Study
DESCRIPTION:Amos
URL:http://www.tbcdubois.org/event/womens-bible-study-16/
LOCATION:Temple Baptist Church Fellowship Hall\, 590 Lincoln Drive\, DuBois\, PA\, 15801\, United States
END:VEVENT
BEGIN:VEVENT
DTSTART;TZID=America/New_York:20221118T100000
DTEND;TZID=America/New_York:20221118T100000
DTSTAMP:20260423T180956
CREATED:20221031T011200Z
LAST-MODIFIED:20221031T011200Z
UID:6018-1668765600-1668765600@www.tbcdubois.org
SUMMARY:Women's Bible Study
DESCRIPTION:Amos
URL:http://www.tbcdubois.org/event/womens-bible-study-16-2/
LOCATION:Temple Baptist Church Fellowship Hall\, 590 Lincoln Drive\, DuBois\, PA\, 15801\, United States
END:VEVENT
BEGIN:VEVENT
DTSTART;TZID=America/New_York:20221117T180000
DTEND;TZID=America/New_York:20221117T180000
DTSTAMP:20260423T180956
CREATED:20221031T010817Z
LAST-MODIFIED:20221031T010817Z
UID:5316-1668708000-1668708000@www.tbcdubois.org
SUMMARY:Men's Bible Study
DESCRIPTION:Come for a time of fellowship and God’s word.
URL:http://www.tbcdubois.org/event/mens-bible-study-32/
LOCATION:The Next Step Ministries\, 412 Willow Alley\, Reynoldsville\, PA\, 15851\, United States
ORGANIZER;CN="Jim Morrison":MAILTO:tbcyouth@windstream.net
END:VEVENT
BEGIN:VEVENT
DTSTART;TZID=America/New_York:20221117T180000
DTEND;TZID=America/New_York:20221117T180000
DTSTAMP:20260423T180956
CREATED:20221031T010817Z
LAST-MODIFIED:20221031T010817Z
UID:6015-1668708000-1668708000@www.tbcdubois.org
SUMMARY:Men's Bible Study
DESCRIPTION:Come for a time of fellowship and God’s word.
URL:http://www.tbcdubois.org/event/mens-bible-study-32-2/
LOCATION:The Next Step Ministries\, 412 Willow Alley\, Reynoldsville\, PA\, 15851\, United States
ORGANIZER;CN="Jim Morrison":MAILTO:tbcyouth@windstream.net
END:VEVENT
BEGIN:VEVENT
DTSTART;TZID=America/New_York:20221117T120000
DTEND;TZID=America/New_York:20221117T150000
DTSTAMP:20260423T180956
CREATED:20221031T212740Z
LAST-MODIFIED:20221031T213939Z
UID:5340-1668686400-1668697200@www.tbcdubois.org
SUMMARY:Operation Christmas Child Shoebox Dropoff
DESCRIPTION:For more information call 814-591-8328
URL:http://www.tbcdubois.org/event/operation-christmas-child-shoebox-dropoff-4/
LOCATION:Temple Baptist Church Sanctuary\, 590 Lincoln Drive\, DuBois\, PA\, 15801\, United States
END:VEVENT
BEGIN:VEVENT
DTSTART;TZID=America/New_York:20221117T120000
DTEND;TZID=America/New_York:20221117T150000
DTSTAMP:20260423T180956
CREATED:20221031T212740Z
LAST-MODIFIED:20221031T212740Z
UID:6025-1668686400-1668697200@www.tbcdubois.org
SUMMARY:Operation Christmas Child Shoebox Dropoff
DESCRIPTION:For more information call 814-591-8328
URL:http://www.tbcdubois.org/event/operation-christmas-child-shoebox-dropoff-4-2/
LOCATION:Temple Baptist Church Sanctuary\, 590 Lincoln Drive\, DuBois\, PA\, 15801\, United States
END:VEVENT
BEGIN:VEVENT
DTSTART;TZID=America/New_York:20221116T150000
DTEND;TZID=America/New_York:20221116T173000
DTSTAMP:20260423T180956
CREATED:20221031T212628Z
LAST-MODIFIED:20221031T213457Z
UID:5338-1668610800-1668619800@www.tbcdubois.org
SUMMARY:Operation Christmas Child Shoebox Dropoff
DESCRIPTION:For more information call 814-591-8328
URL:http://www.tbcdubois.org/event/operation-christmas-child-shoebox-dropoff-3/
LOCATION:Temple Baptist Church Sanctuary\, 590 Lincoln Drive\, DuBois\, PA\, 15801\, United States
END:VEVENT
BEGIN:VEVENT
DTSTART;TZID=America/New_York:20221116T150000
DTEND;TZID=America/New_York:20221116T173000
DTSTAMP:20260423T180956
CREATED:20221031T212628Z
LAST-MODIFIED:20221031T212628Z
UID:6024-1668610800-1668619800@www.tbcdubois.org
SUMMARY:Operation Christmas Child Shoebox Dropoff
DESCRIPTION:For more information call 814-591-8328
URL:http://www.tbcdubois.org/event/operation-christmas-child-shoebox-dropoff-3-2/
LOCATION:Temple Baptist Church Sanctuary\, 590 Lincoln Drive\, DuBois\, PA\, 15801\, United States
END:VEVENT
BEGIN:VEVENT
DTSTART;TZID=America/New_York:20221115T183000
DTEND;TZID=America/New_York:20221115T183000
DTSTAMP:20260423T180956
CREATED:20221031T010414Z
LAST-MODIFIED:20221031T010414Z
UID:5310-1668537000-1668537000@www.tbcdubois.org
SUMMARY:Women's Bible Study
DESCRIPTION:The Quest
URL:http://www.tbcdubois.org/event/womens-bible-study-12/
LOCATION:The Next Step Ministries\, 412 Willow Alley\, Reynoldsville\, PA\, 15851\, United States
END:VEVENT
BEGIN:VEVENT
DTSTART;TZID=America/New_York:20221115T183000
DTEND;TZID=America/New_York:20221115T183000
DTSTAMP:20260423T180956
CREATED:20221031T010414Z
LAST-MODIFIED:20221031T010414Z
UID:6012-1668537000-1668537000@www.tbcdubois.org
SUMMARY:Women's Bible Study
DESCRIPTION:The Quest
URL:http://www.tbcdubois.org/event/womens-bible-study-12-2/
LOCATION:The Next Step Ministries\, 412 Willow Alley\, Reynoldsville\, PA\, 15851\, United States
END:VEVENT
BEGIN:VEVENT
DTSTART;TZID=America/New_York:20221115T110000
DTEND;TZID=America/New_York:20221115T140000
DTSTAMP:20260423T180956
CREATED:20221031T212533Z
LAST-MODIFIED:20221031T213421Z
UID:5336-1668510000-1668520800@www.tbcdubois.org
SUMMARY:Operation Christmas Child Shoebox Dropoff
DESCRIPTION:For more information call 814-591-8328
URL:http://www.tbcdubois.org/event/operation-christmas-child-shoebox-dropoff-2/
LOCATION:Temple Baptist Church Sanctuary\, 590 Lincoln Drive\, DuBois\, PA\, 15801\, United States
END:VEVENT
BEGIN:VEVENT
DTSTART;TZID=America/New_York:20221115T110000
DTEND;TZID=America/New_York:20221115T140000
DTSTAMP:20260423T180956
CREATED:20221031T212533Z
LAST-MODIFIED:20221031T212533Z
UID:6023-1668510000-1668520800@www.tbcdubois.org
SUMMARY:Operation Christmas Child Shoebox Dropoff
DESCRIPTION:For more information call 814-591-8328
URL:http://www.tbcdubois.org/event/operation-christmas-child-shoebox-dropoff-2-2/
LOCATION:Temple Baptist Church Sanctuary\, 590 Lincoln Drive\, DuBois\, PA\, 15801\, United States
END:VEVENT
BEGIN:VEVENT
DTSTART;TZID=America/New_York:20221114T100000
DTEND;TZID=America/New_York:20221114T130000
DTSTAMP:20260423T180956
CREATED:20221031T212444Z
LAST-MODIFIED:20221031T213341Z
UID:5334-1668420000-1668430800@www.tbcdubois.org
SUMMARY:Operation Christmas Child Shoebox Dropoff
DESCRIPTION:For more information call 814-591-8328
URL:http://www.tbcdubois.org/event/operation-christmas-child-shoebox-dropoff/
LOCATION:Temple Baptist Church Sanctuary\, 590 Lincoln Drive\, DuBois\, PA\, 15801\, United States
END:VEVENT
BEGIN:VEVENT
DTSTART;TZID=America/New_York:20221114T100000
DTEND;TZID=America/New_York:20221114T130000
DTSTAMP:20260423T180956
CREATED:20221031T212444Z
LAST-MODIFIED:20221031T212444Z
UID:6022-1668420000-1668430800@www.tbcdubois.org
SUMMARY:Operation Christmas Child Shoebox Dropoff
DESCRIPTION:For more information call 814-591-8328
URL:http://www.tbcdubois.org/event/operation-christmas-child-shoebox-dropoff-9/
LOCATION:Temple Baptist Church Sanctuary\, 590 Lincoln Drive\, DuBois\, PA\, 15801\, United States
END:VEVENT
BEGIN:VEVENT
DTSTART;TZID=America/New_York:20221111T183000
DTEND;TZID=America/New_York:20221111T183000
DTSTAMP:20260423T180956
CREATED:20221031T012030Z
LAST-MODIFIED:20221031T012030Z
UID:5328-1668191400-1668191400@www.tbcdubois.org
SUMMARY:OCC Packing Party
DESCRIPTION:
URL:http://www.tbcdubois.org/event/occ-packing-party-2/
LOCATION:Temple Baptist Church Sanctuary\, 590 Lincoln Drive\, DuBois\, PA\, 15801\, United States
END:VEVENT
BEGIN:VEVENT
DTSTART;TZID=America/New_York:20221111T183000
DTEND;TZID=America/New_York:20221111T183000
DTSTAMP:20260423T180956
CREATED:20221031T012030Z
LAST-MODIFIED:20221031T012030Z
UID:6019-1668191400-1668191400@www.tbcdubois.org
SUMMARY:OCC Packing Party
DESCRIPTION:
URL:http://www.tbcdubois.org/event/occ-packing-party-2-2/
LOCATION:Temple Baptist Church Sanctuary\, 590 Lincoln Drive\, DuBois\, PA\, 15801\, United States
END:VEVENT
BEGIN:VEVENT
DTSTART;TZID=America/New_York:20221111T100000
DTEND;TZID=America/New_York:20221111T100000
DTSTAMP:20260423T180956
CREATED:20221031T011055Z
LAST-MODIFIED:20221031T011055Z
UID:5320-1668160800-1668160800@www.tbcdubois.org
SUMMARY:Women's Bible Study
DESCRIPTION:Amos
URL:http://www.tbcdubois.org/event/womens-bible-study-15/
LOCATION:Temple Baptist Church Fellowship Hall\, 590 Lincoln Drive\, DuBois\, PA\, 15801\, United States
END:VEVENT
BEGIN:VEVENT
DTSTART;TZID=America/New_York:20221111T100000
DTEND;TZID=America/New_York:20221111T100000
DTSTAMP:20260423T180956
CREATED:20221031T011055Z
LAST-MODIFIED:20221031T011055Z
UID:6017-1668160800-1668160800@www.tbcdubois.org
SUMMARY:Women's Bible Study
DESCRIPTION:Amos
URL:http://www.tbcdubois.org/event/womens-bible-study-15-2/
LOCATION:Temple Baptist Church Fellowship Hall\, 590 Lincoln Drive\, DuBois\, PA\, 15801\, United States
END:VEVENT
BEGIN:VEVENT
DTSTART;TZID=America/New_York:20221105T100000
DTEND;TZID=America/New_York:20221105T100000
DTSTAMP:20260423T180956
CREATED:20220926T011534Z
LAST-MODIFIED:20220926T011534Z
UID:5255-1667642400-1667642400@www.tbcdubois.org
SUMMARY:Grief Share - Surviving the holidays
DESCRIPTION:Have you lost a love one and are dreading the holidays?  This 1 day grief share is designed to give you the tools to help get you through.  You are not alone.  Come join us. \nSnacks and Brunch will be provided.
URL:http://www.tbcdubois.org/event/grief-share-surviving-the-holidays/
LOCATION:Temple Baptist Church Fellowship Hall\, 590 Lincoln Drive\, DuBois\, PA\, 15801\, United States
END:VEVENT
BEGIN:VEVENT
DTSTART;TZID=America/New_York:20221105T100000
DTEND;TZID=America/New_York:20221105T100000
DTSTAMP:20260423T180956
CREATED:20220926T011534Z
LAST-MODIFIED:20220926T011534Z
UID:6003-1667642400-1667642400@www.tbcdubois.org
SUMMARY:Grief Share - Surviving the holidays
DESCRIPTION:Have you lost a love one and are dreading the holidays?  This 1 day grief share is designed to give you the tools to help get you through.  You are not alone.  Come join us. \nSnacks and Brunch will be provided.
URL:http://www.tbcdubois.org/event/grief-share-surviving-the-holidays-2/
LOCATION:Temple Baptist Church Fellowship Hall\, 590 Lincoln Drive\, DuBois\, PA\, 15801\, United States
END:VEVENT
BEGIN:VEVENT
DTSTART;TZID=America/New_York:20221104T100000
DTEND;TZID=America/New_York:20221104T100000
DTSTAMP:20260423T180956
CREATED:20221031T010944Z
LAST-MODIFIED:20221031T010944Z
UID:5318-1667556000-1667556000@www.tbcdubois.org
SUMMARY:Women's Bible Study
DESCRIPTION:Amos
URL:http://www.tbcdubois.org/event/womens-bible-study-14/
LOCATION:Temple Baptist Church Fellowship Hall\, 590 Lincoln Drive\, DuBois\, PA\, 15801\, United States
END:VEVENT
BEGIN:VEVENT
DTSTART;TZID=America/New_York:20221104T100000
DTEND;TZID=America/New_York:20221104T100000
DTSTAMP:20260423T180956
CREATED:20221031T010944Z
LAST-MODIFIED:20221031T010944Z
UID:6016-1667556000-1667556000@www.tbcdubois.org
SUMMARY:Women's Bible Study
DESCRIPTION:Amos
URL:http://www.tbcdubois.org/event/womens-bible-study-14-2/
LOCATION:Temple Baptist Church Fellowship Hall\, 590 Lincoln Drive\, DuBois\, PA\, 15801\, United States
END:VEVENT
BEGIN:VEVENT
DTSTART;TZID=America/New_York:20221103T180000
DTEND;TZID=America/New_York:20221103T180000
DTSTAMP:20260423T180956
CREATED:20221031T010655Z
LAST-MODIFIED:20221031T010655Z
UID:5314-1667498400-1667498400@www.tbcdubois.org
SUMMARY:Men's Bible Study
DESCRIPTION:Come for a time of fellowship and God’s word.
URL:http://www.tbcdubois.org/event/mens-bible-study-31/
LOCATION:The Next Step Ministries\, 412 Willow Alley\, Reynoldsville\, PA\, 15851\, United States
ORGANIZER;CN="Jim Morrison":MAILTO:tbcyouth@windstream.net
END:VEVENT
BEGIN:VEVENT
DTSTART;TZID=America/New_York:20221103T180000
DTEND;TZID=America/New_York:20221103T180000
DTSTAMP:20260423T180956
CREATED:20221031T010655Z
LAST-MODIFIED:20221031T010655Z
UID:6014-1667498400-1667498400@www.tbcdubois.org
SUMMARY:Men's Bible Study
DESCRIPTION:Come for a time of fellowship and God’s word.
URL:http://www.tbcdubois.org/event/mens-bible-study-31-2/
LOCATION:The Next Step Ministries\, 412 Willow Alley\, Reynoldsville\, PA\, 15851\, United States
ORGANIZER;CN="Jim Morrison":MAILTO:tbcyouth@windstream.net
END:VEVENT
BEGIN:VEVENT
DTSTART;TZID=America/New_York:20221101T183000
DTEND;TZID=America/New_York:20221101T183000
DTSTAMP:20260423T180956
CREATED:20221031T010017Z
LAST-MODIFIED:20221031T010305Z
UID:5307-1667327400-1667327400@www.tbcdubois.org
SUMMARY:Women's Bible Study
DESCRIPTION:The Quest
URL:http://www.tbcdubois.org/event/womens-bible-study-11/
LOCATION:The Next Step Ministries\, 412 Willow Alley\, Reynoldsville\, PA\, 15851\, United States
END:VEVENT
BEGIN:VEVENT
DTSTART;TZID=America/New_York:20221101T183000
DTEND;TZID=America/New_York:20221101T183000
DTSTAMP:20260423T180956
CREATED:20221031T010017Z
LAST-MODIFIED:20221031T010017Z
UID:6011-1667327400-1667327400@www.tbcdubois.org
SUMMARY:Women's Bible Study
DESCRIPTION:The Quest
URL:http://www.tbcdubois.org/event/womens-bible-study-11-2/
LOCATION:The Next Step Ministries\, 412 Willow Alley\, Reynoldsville\, PA\, 15851\, United States
END:VEVENT
BEGIN:VEVENT
DTSTART;TZID=America/New_York:20221028T100000
DTEND;TZID=America/New_York:20221028T100000
DTSTAMP:20260423T180956
CREATED:20221003T005654Z
LAST-MODIFIED:20221003T005654Z
UID:5278-1666951200-1666951200@www.tbcdubois.org
SUMMARY:Women's Bible Study
DESCRIPTION:A study on Amos
URL:http://www.tbcdubois.org/event/womens-bible-study-10/
LOCATION:Temple Baptist Church Fellowship Hall\, 590 Lincoln Drive\, DuBois\, PA\, 15801\, United States
END:VEVENT
BEGIN:VEVENT
DTSTART;TZID=America/New_York:20221028T100000
DTEND;TZID=America/New_York:20221028T100000
DTSTAMP:20260423T180956
CREATED:20221003T005654Z
LAST-MODIFIED:20221003T005654Z
UID:6010-1666951200-1666951200@www.tbcdubois.org
SUMMARY:Women's Bible Study
DESCRIPTION:A study on Amos
URL:http://www.tbcdubois.org/event/womens-bible-study-10-2/
LOCATION:Temple Baptist Church Fellowship Hall\, 590 Lincoln Drive\, DuBois\, PA\, 15801\, United States
END:VEVENT
END:VCALENDAR