BEGIN:VCALENDAR
VERSION:2.0
PRODID:-//Temple Baptist Church - ECPv6.15.20//NONSGML v1.0//EN
CALSCALE:GREGORIAN
METHOD:PUBLISH
X-WR-CALNAME:Temple Baptist Church
X-ORIGINAL-URL:http://www.tbcdubois.org
X-WR-CALDESC:Events for Temple Baptist Church
REFRESH-INTERVAL;VALUE=DURATION:PT1H
X-Robots-Tag:noindex
X-PUBLISHED-TTL:PT1H
BEGIN:VTIMEZONE
TZID:America/New_York
BEGIN:DAYLIGHT
TZOFFSETFROM:-0500
TZOFFSETTO:-0400
TZNAME:EDT
DTSTART:20210314T070000
END:DAYLIGHT
BEGIN:STANDARD
TZOFFSETFROM:-0400
TZOFFSETTO:-0500
TZNAME:EST
DTSTART:20211107T060000
END:STANDARD
BEGIN:DAYLIGHT
TZOFFSETFROM:-0500
TZOFFSETTO:-0400
TZNAME:EDT
DTSTART:20220313T070000
END:DAYLIGHT
BEGIN:STANDARD
TZOFFSETFROM:-0400
TZOFFSETTO:-0500
TZNAME:EST
DTSTART:20221106T060000
END:STANDARD
BEGIN:DAYLIGHT
TZOFFSETFROM:-0500
TZOFFSETTO:-0400
TZNAME:EDT
DTSTART:20230312T070000
END:DAYLIGHT
BEGIN:STANDARD
TZOFFSETFROM:-0400
TZOFFSETTO:-0500
TZNAME:EST
DTSTART:20231105T060000
END:STANDARD
END:VTIMEZONE
BEGIN:VEVENT
DTSTART;TZID=America/New_York:20221105T100000
DTEND;TZID=America/New_York:20221105T100000
DTSTAMP:20260423T214625
CREATED:20220926T011534Z
LAST-MODIFIED:20220926T011534Z
UID:5255-1667642400-1667642400@www.tbcdubois.org
SUMMARY:Grief Share - Surviving the holidays
DESCRIPTION:Have you lost a love one and are dreading the holidays?  This 1 day grief share is designed to give you the tools to help get you through.  You are not alone.  Come join us. \nSnacks and Brunch will be provided.
URL:http://www.tbcdubois.org/event/grief-share-surviving-the-holidays/
LOCATION:Temple Baptist Church Fellowship Hall\, 590 Lincoln Drive\, DuBois\, PA\, 15801\, United States
END:VEVENT
BEGIN:VEVENT
DTSTART;TZID=America/New_York:20221105T100000
DTEND;TZID=America/New_York:20221105T100000
DTSTAMP:20260423T214625
CREATED:20220926T011534Z
LAST-MODIFIED:20220926T011534Z
UID:6003-1667642400-1667642400@www.tbcdubois.org
SUMMARY:Grief Share - Surviving the holidays
DESCRIPTION:Have you lost a love one and are dreading the holidays?  This 1 day grief share is designed to give you the tools to help get you through.  You are not alone.  Come join us. \nSnacks and Brunch will be provided.
URL:http://www.tbcdubois.org/event/grief-share-surviving-the-holidays-2/
LOCATION:Temple Baptist Church Fellowship Hall\, 590 Lincoln Drive\, DuBois\, PA\, 15801\, United States
END:VEVENT
BEGIN:VEVENT
DTSTART;TZID=America/New_York:20221104T100000
DTEND;TZID=America/New_York:20221104T100000
DTSTAMP:20260423T214625
CREATED:20221031T010944Z
LAST-MODIFIED:20221031T010944Z
UID:5318-1667556000-1667556000@www.tbcdubois.org
SUMMARY:Women's Bible Study
DESCRIPTION:Amos
URL:http://www.tbcdubois.org/event/womens-bible-study-14/
LOCATION:Temple Baptist Church Fellowship Hall\, 590 Lincoln Drive\, DuBois\, PA\, 15801\, United States
END:VEVENT
BEGIN:VEVENT
DTSTART;TZID=America/New_York:20221104T100000
DTEND;TZID=America/New_York:20221104T100000
DTSTAMP:20260423T214625
CREATED:20221031T010944Z
LAST-MODIFIED:20221031T010944Z
UID:6016-1667556000-1667556000@www.tbcdubois.org
SUMMARY:Women's Bible Study
DESCRIPTION:Amos
URL:http://www.tbcdubois.org/event/womens-bible-study-14-2/
LOCATION:Temple Baptist Church Fellowship Hall\, 590 Lincoln Drive\, DuBois\, PA\, 15801\, United States
END:VEVENT
BEGIN:VEVENT
DTSTART;TZID=America/New_York:20221103T180000
DTEND;TZID=America/New_York:20221103T180000
DTSTAMP:20260423T214625
CREATED:20221031T010655Z
LAST-MODIFIED:20221031T010655Z
UID:5314-1667498400-1667498400@www.tbcdubois.org
SUMMARY:Men's Bible Study
DESCRIPTION:Come for a time of fellowship and God’s word.
URL:http://www.tbcdubois.org/event/mens-bible-study-31/
LOCATION:The Next Step Ministries\, 412 Willow Alley\, Reynoldsville\, PA\, 15851\, United States
ORGANIZER;CN="Jim Morrison":MAILTO:tbcyouth@windstream.net
END:VEVENT
BEGIN:VEVENT
DTSTART;TZID=America/New_York:20221103T180000
DTEND;TZID=America/New_York:20221103T180000
DTSTAMP:20260423T214625
CREATED:20221031T010655Z
LAST-MODIFIED:20221031T010655Z
UID:6014-1667498400-1667498400@www.tbcdubois.org
SUMMARY:Men's Bible Study
DESCRIPTION:Come for a time of fellowship and God’s word.
URL:http://www.tbcdubois.org/event/mens-bible-study-31-2/
LOCATION:The Next Step Ministries\, 412 Willow Alley\, Reynoldsville\, PA\, 15851\, United States
ORGANIZER;CN="Jim Morrison":MAILTO:tbcyouth@windstream.net
END:VEVENT
BEGIN:VEVENT
DTSTART;TZID=America/New_York:20221101T183000
DTEND;TZID=America/New_York:20221101T183000
DTSTAMP:20260423T214625
CREATED:20221031T010017Z
LAST-MODIFIED:20221031T010305Z
UID:5307-1667327400-1667327400@www.tbcdubois.org
SUMMARY:Women's Bible Study
DESCRIPTION:The Quest
URL:http://www.tbcdubois.org/event/womens-bible-study-11/
LOCATION:The Next Step Ministries\, 412 Willow Alley\, Reynoldsville\, PA\, 15851\, United States
END:VEVENT
BEGIN:VEVENT
DTSTART;TZID=America/New_York:20221101T183000
DTEND;TZID=America/New_York:20221101T183000
DTSTAMP:20260423T214625
CREATED:20221031T010017Z
LAST-MODIFIED:20221031T010017Z
UID:6011-1667327400-1667327400@www.tbcdubois.org
SUMMARY:Women's Bible Study
DESCRIPTION:The Quest
URL:http://www.tbcdubois.org/event/womens-bible-study-11-2/
LOCATION:The Next Step Ministries\, 412 Willow Alley\, Reynoldsville\, PA\, 15851\, United States
END:VEVENT
BEGIN:VEVENT
DTSTART;TZID=America/New_York:20221028T100000
DTEND;TZID=America/New_York:20221028T100000
DTSTAMP:20260423T214625
CREATED:20221003T005654Z
LAST-MODIFIED:20221003T005654Z
UID:5278-1666951200-1666951200@www.tbcdubois.org
SUMMARY:Women's Bible Study
DESCRIPTION:A study on Amos
URL:http://www.tbcdubois.org/event/womens-bible-study-10/
LOCATION:Temple Baptist Church Fellowship Hall\, 590 Lincoln Drive\, DuBois\, PA\, 15801\, United States
END:VEVENT
BEGIN:VEVENT
DTSTART;TZID=America/New_York:20221028T100000
DTEND;TZID=America/New_York:20221028T100000
DTSTAMP:20260423T214625
CREATED:20221003T005654Z
LAST-MODIFIED:20221003T005654Z
UID:6010-1666951200-1666951200@www.tbcdubois.org
SUMMARY:Women's Bible Study
DESCRIPTION:A study on Amos
URL:http://www.tbcdubois.org/event/womens-bible-study-10-2/
LOCATION:Temple Baptist Church Fellowship Hall\, 590 Lincoln Drive\, DuBois\, PA\, 15801\, United States
END:VEVENT
BEGIN:VEVENT
DTSTART;TZID=America/New_York:20221027T180000
DTEND;TZID=America/New_York:20221027T180000
DTSTAMP:20260423T214625
CREATED:20221003T004902Z
LAST-MODIFIED:20221003T004902Z
UID:5270-1666893600-1666893600@www.tbcdubois.org
SUMMARY:Men's Bible Study
DESCRIPTION:
URL:http://www.tbcdubois.org/event/mens-bible-study-30/
LOCATION:The Next Step Ministries\, 412 Willow Alley\, Reynoldsville\, PA\, 15851\, United States
ORGANIZER;CN="Jim Morrison":MAILTO:tbcyouth@windstream.net
END:VEVENT
BEGIN:VEVENT
DTSTART;TZID=America/New_York:20221027T180000
DTEND;TZID=America/New_York:20221027T180000
DTSTAMP:20260423T214625
CREATED:20221003T004902Z
LAST-MODIFIED:20221003T004902Z
UID:6006-1666893600-1666893600@www.tbcdubois.org
SUMMARY:Men's Bible Study
DESCRIPTION:
URL:http://www.tbcdubois.org/event/mens-bible-study-30-2/
LOCATION:The Next Step Ministries\, 412 Willow Alley\, Reynoldsville\, PA\, 15851\, United States
ORGANIZER;CN="Jim Morrison":MAILTO:tbcyouth@windstream.net
END:VEVENT
BEGIN:VEVENT
DTSTART;TZID=America/New_York:20221025T183000
DTEND;TZID=America/New_York:20221025T183000
DTSTAMP:20260423T214625
CREATED:20220926T010012Z
LAST-MODIFIED:20221003T010226Z
UID:5250-1666722600-1666722600@www.tbcdubois.org
SUMMARY:Women's Bible Study
DESCRIPTION:The Quest
URL:http://www.tbcdubois.org/event/womens-bible-study-6/
LOCATION:The Next Step Ministries\, 412 Willow Alley\, Reynoldsville\, PA\, 15851\, United States
END:VEVENT
BEGIN:VEVENT
DTSTART;TZID=America/New_York:20221025T183000
DTEND;TZID=America/New_York:20221025T183000
DTSTAMP:20260423T214625
CREATED:20220926T010012Z
LAST-MODIFIED:20220926T010012Z
UID:6001-1666722600-1666722600@www.tbcdubois.org
SUMMARY:Women's Bible Study
DESCRIPTION:The Quest
URL:http://www.tbcdubois.org/event/womens-bible-study-6-2/
LOCATION:The Next Step Ministries\, 412 Willow Alley\, Reynoldsville\, PA\, 15851\, United States
END:VEVENT
BEGIN:VEVENT
DTSTART;TZID=America/New_York:20221021T100000
DTEND;TZID=America/New_York:20221021T100000
DTSTAMP:20260423T214625
CREATED:20221003T005601Z
LAST-MODIFIED:20221003T005601Z
UID:5276-1666346400-1666346400@www.tbcdubois.org
SUMMARY:Women's Bible Study
DESCRIPTION:A study on Amos
URL:http://www.tbcdubois.org/event/womens-bible-study-9/
LOCATION:Temple Baptist Church Fellowship Hall\, 590 Lincoln Drive\, DuBois\, PA\, 15801\, United States
END:VEVENT
BEGIN:VEVENT
DTSTART;TZID=America/New_York:20221021T100000
DTEND;TZID=America/New_York:20221021T100000
DTSTAMP:20260423T214625
CREATED:20221003T005601Z
LAST-MODIFIED:20221003T005601Z
UID:6009-1666346400-1666346400@www.tbcdubois.org
SUMMARY:Women's Bible Study
DESCRIPTION:A study on Amos
URL:http://www.tbcdubois.org/event/womens-bible-study-9-2/
LOCATION:Temple Baptist Church Fellowship Hall\, 590 Lincoln Drive\, DuBois\, PA\, 15801\, United States
END:VEVENT
BEGIN:VEVENT
DTSTART;TZID=America/New_York:20221020T180000
DTEND;TZID=America/New_York:20221020T180000
DTSTAMP:20260423T214625
CREATED:20221003T004814Z
LAST-MODIFIED:20221003T004814Z
UID:5268-1666288800-1666288800@www.tbcdubois.org
SUMMARY:Men's Bible Study
DESCRIPTION:
URL:http://www.tbcdubois.org/event/mens-bible-study-29/
LOCATION:The Next Step Ministries\, 412 Willow Alley\, Reynoldsville\, PA\, 15851\, United States
ORGANIZER;CN="Jim Morrison":MAILTO:tbcyouth@windstream.net
END:VEVENT
BEGIN:VEVENT
DTSTART;TZID=America/New_York:20221020T180000
DTEND;TZID=America/New_York:20221020T180000
DTSTAMP:20260423T214625
CREATED:20221003T004814Z
LAST-MODIFIED:20221003T004814Z
UID:6005-1666288800-1666288800@www.tbcdubois.org
SUMMARY:Men's Bible Study
DESCRIPTION:
URL:http://www.tbcdubois.org/event/mens-bible-study-29-2/
LOCATION:The Next Step Ministries\, 412 Willow Alley\, Reynoldsville\, PA\, 15851\, United States
ORGANIZER;CN="Jim Morrison":MAILTO:tbcyouth@windstream.net
END:VEVENT
BEGIN:VEVENT
DTSTART;TZID=America/New_York:20221020T180000
DTEND;TZID=America/New_York:20221020T180000
DTSTAMP:20260423T214625
CREATED:20220926T010538Z
LAST-MODIFIED:20220926T010538Z
UID:5253-1666288800-1666288800@www.tbcdubois.org
SUMMARY:Grief Share - loss of spouse
DESCRIPTION:This is a special 1 day grief share specifically for those who have loss a spouse.
URL:http://www.tbcdubois.org/event/grief-share-loss-of-spouse/
LOCATION:Temple Baptist Church Fellowship Hall\, 590 Lincoln Drive\, DuBois\, PA\, 15801\, United States
END:VEVENT
BEGIN:VEVENT
DTSTART;TZID=America/New_York:20221020T180000
DTEND;TZID=America/New_York:20221020T180000
DTSTAMP:20260423T214625
CREATED:20220926T010538Z
LAST-MODIFIED:20220926T010538Z
UID:6002-1666288800-1666288800@www.tbcdubois.org
SUMMARY:Grief Share - loss of spouse
DESCRIPTION:This is a special 1 day grief share specifically for those who have loss a spouse.
URL:http://www.tbcdubois.org/event/grief-share-loss-of-spouse-2/
LOCATION:Temple Baptist Church Fellowship Hall\, 590 Lincoln Drive\, DuBois\, PA\, 15801\, United States
END:VEVENT
BEGIN:VEVENT
DTSTART;TZID=America/New_York:20221016T180000
DTEND;TZID=America/New_York:20221016T180000
DTSTAMP:20260423T214625
CREATED:20220926T005752Z
LAST-MODIFIED:20220926T005752Z
UID:5246-1665943200-1665943200@www.tbcdubois.org
SUMMARY:Glory Way
DESCRIPTION:Come enjoy some beautiful Christian music brought to you by the very gifted men of Glory Way.
URL:http://www.tbcdubois.org/event/glory-way/
LOCATION:Temple Baptist Church Sanctuary\, 590 Lincoln Drive\, DuBois\, PA\, 15801\, United States
END:VEVENT
BEGIN:VEVENT
DTSTART;TZID=America/New_York:20221016T180000
DTEND;TZID=America/New_York:20221016T180000
DTSTAMP:20260423T214625
CREATED:20220926T005752Z
LAST-MODIFIED:20220926T005752Z
UID:5999-1665943200-1665943200@www.tbcdubois.org
SUMMARY:Glory Way
DESCRIPTION:Come enjoy some beautiful Christian music brought to you by the very gifted men of Glory Way.
URL:http://www.tbcdubois.org/event/glory-way-2/
LOCATION:Temple Baptist Church Sanctuary\, 590 Lincoln Drive\, DuBois\, PA\, 15801\, United States
END:VEVENT
BEGIN:VEVENT
DTSTART;TZID=America/New_York:20221014T100000
DTEND;TZID=America/New_York:20221014T100000
DTSTAMP:20260423T214625
CREATED:20221003T005453Z
LAST-MODIFIED:20221003T005942Z
UID:5274-1665741600-1665741600@www.tbcdubois.org
SUMMARY:Women's Bible Study
DESCRIPTION:A study on Amos
URL:http://www.tbcdubois.org/event/womens-bible-study-8/
LOCATION:Temple Baptist Church Fellowship Hall\, 590 Lincoln Drive\, DuBois\, PA\, 15801\, United States
END:VEVENT
BEGIN:VEVENT
DTSTART;TZID=America/New_York:20221014T100000
DTEND;TZID=America/New_York:20221014T100000
DTSTAMP:20260423T214625
CREATED:20221003T005453Z
LAST-MODIFIED:20221003T005453Z
UID:6008-1665741600-1665741600@www.tbcdubois.org
SUMMARY:Women's Bible Study
DESCRIPTION:A study on Amos
URL:http://www.tbcdubois.org/event/womens-bible-study-8-2/
LOCATION:Temple Baptist Church Fellowship Hall\, 590 Lincoln Drive\, DuBois\, PA\, 15801\, United States
END:VEVENT
BEGIN:VEVENT
DTSTART;TZID=America/New_York:20221007T100000
DTEND;TZID=America/New_York:20221007T100000
DTSTAMP:20260423T214625
CREATED:20221003T005357Z
LAST-MODIFIED:20221003T005357Z
UID:5272-1665136800-1665136800@www.tbcdubois.org
SUMMARY:Women's Bible Study
DESCRIPTION:A study on the book of Amos
URL:http://www.tbcdubois.org/event/womens-bible-study-7/
LOCATION:Temple Baptist Church Fellowship Hall\, 590 Lincoln Drive\, DuBois\, PA\, 15801\, United States
END:VEVENT
BEGIN:VEVENT
DTSTART;TZID=America/New_York:20221007T100000
DTEND;TZID=America/New_York:20221007T100000
DTSTAMP:20260423T214625
CREATED:20221003T005357Z
LAST-MODIFIED:20221003T005357Z
UID:6007-1665136800-1665136800@www.tbcdubois.org
SUMMARY:Women's Bible Study
DESCRIPTION:A study on the book of Amos
URL:http://www.tbcdubois.org/event/womens-bible-study-7-2/
LOCATION:Temple Baptist Church Fellowship Hall\, 590 Lincoln Drive\, DuBois\, PA\, 15801\, United States
END:VEVENT
BEGIN:VEVENT
DTSTART;TZID=America/New_York:20221006T180000
DTEND;TZID=America/New_York:20221006T200000
DTSTAMP:20260423T214625
CREATED:20220823T215232Z
LAST-MODIFIED:20220823T215232Z
UID:5195-1665079200-1665086400@www.tbcdubois.org
SUMMARY:Grief Share
DESCRIPTION:
URL:http://www.tbcdubois.org/event/grief-share-10/
LOCATION:Temple Baptist Church Fellowship Hall\, 590 Lincoln Drive\, DuBois\, PA\, 15801\, United States
END:VEVENT
BEGIN:VEVENT
DTSTART;TZID=America/New_York:20221006T180000
DTEND;TZID=America/New_York:20221006T200000
DTSTAMP:20260423T214625
CREATED:20220823T215232Z
LAST-MODIFIED:20220823T215232Z
UID:5992-1665079200-1665086400@www.tbcdubois.org
SUMMARY:Grief Share
DESCRIPTION:
URL:http://www.tbcdubois.org/event/grief-share-10-2/
LOCATION:Temple Baptist Church Fellowship Hall\, 590 Lincoln Drive\, DuBois\, PA\, 15801\, United States
END:VEVENT
BEGIN:VEVENT
DTSTART;TZID=America/New_York:20221006T180000
DTEND;TZID=America/New_York:20221006T180000
DTSTAMP:20260423T214625
CREATED:20221003T004714Z
LAST-MODIFIED:20221003T004714Z
UID:5266-1665079200-1665079200@www.tbcdubois.org
SUMMARY:Men's Bible Study
DESCRIPTION:
URL:http://www.tbcdubois.org/event/mens-bible-study-28/
LOCATION:The Next Step Ministries\, 412 Willow Alley\, Reynoldsville\, PA\, 15851\, United States
ORGANIZER;CN="Jim Morrison":MAILTO:tbcyouth@windstream.net
END:VEVENT
BEGIN:VEVENT
DTSTART;TZID=America/New_York:20221006T180000
DTEND;TZID=America/New_York:20221006T180000
DTSTAMP:20260423T214625
CREATED:20221003T004714Z
LAST-MODIFIED:20221003T004714Z
UID:6004-1665079200-1665079200@www.tbcdubois.org
SUMMARY:Men's Bible Study
DESCRIPTION:
URL:http://www.tbcdubois.org/event/mens-bible-study-28-2/
LOCATION:The Next Step Ministries\, 412 Willow Alley\, Reynoldsville\, PA\, 15851\, United States
ORGANIZER;CN="Jim Morrison":MAILTO:tbcyouth@windstream.net
END:VEVENT
END:VCALENDAR