BEGIN:VCALENDAR
VERSION:2.0
PRODID:-//Temple Baptist Church - ECPv6.15.20//NONSGML v1.0//EN
CALSCALE:GREGORIAN
METHOD:PUBLISH
X-WR-CALNAME:Temple Baptist Church
X-ORIGINAL-URL:http://www.tbcdubois.org
X-WR-CALDESC:Events for Temple Baptist Church
REFRESH-INTERVAL;VALUE=DURATION:PT1H
X-Robots-Tag:noindex
X-PUBLISHED-TTL:PT1H
BEGIN:VTIMEZONE
TZID:America/New_York
BEGIN:DAYLIGHT
TZOFFSETFROM:-0500
TZOFFSETTO:-0400
TZNAME:EDT
DTSTART:20220313T070000
END:DAYLIGHT
BEGIN:STANDARD
TZOFFSETFROM:-0400
TZOFFSETTO:-0500
TZNAME:EST
DTSTART:20221106T060000
END:STANDARD
BEGIN:DAYLIGHT
TZOFFSETFROM:-0500
TZOFFSETTO:-0400
TZNAME:EDT
DTSTART:20230312T070000
END:DAYLIGHT
BEGIN:STANDARD
TZOFFSETFROM:-0400
TZOFFSETTO:-0500
TZNAME:EST
DTSTART:20231105T060000
END:STANDARD
BEGIN:DAYLIGHT
TZOFFSETFROM:-0500
TZOFFSETTO:-0400
TZNAME:EDT
DTSTART:20240310T070000
END:DAYLIGHT
BEGIN:STANDARD
TZOFFSETFROM:-0400
TZOFFSETTO:-0500
TZNAME:EST
DTSTART:20241103T060000
END:STANDARD
END:VTIMEZONE
BEGIN:VEVENT
DTSTART;TZID=America/New_York:20230511T183000
DTEND;TZID=America/New_York:20230511T183000
DTSTAMP:20260423T043610
CREATED:20230405T012646Z
LAST-MODIFIED:20230405T012646Z
UID:5622-1683829800-1683829800@www.tbcdubois.org
SUMMARY:Men's Bible Study
DESCRIPTION:
URL:http://www.tbcdubois.org/event/mens-bible-study-50/
LOCATION:The Next Step Ministries\, 412 Willow Alley\, Reynoldsville\, PA\, 15851\, United States
ORGANIZER;CN="Jim Morrison":MAILTO:tbcyouth@windstream.net
END:VEVENT
BEGIN:VEVENT
DTSTART;TZID=America/New_York:20230511T183000
DTEND;TZID=America/New_York:20230511T183000
DTSTAMP:20260423T043610
CREATED:20230405T012646Z
LAST-MODIFIED:20230405T012646Z
UID:6075-1683829800-1683829800@www.tbcdubois.org
SUMMARY:Men's Bible Study
DESCRIPTION:
URL:http://www.tbcdubois.org/event/mens-bible-study-50-2/
LOCATION:The Next Step Ministries\, 412 Willow Alley\, Reynoldsville\, PA\, 15851\, United States
ORGANIZER;CN="Jim Morrison":MAILTO:tbcyouth@windstream.net
END:VEVENT
BEGIN:VEVENT
DTSTART;TZID=America/New_York:20230504T183000
DTEND;TZID=America/New_York:20230504T183000
DTSTAMP:20260423T043610
CREATED:20230405T012603Z
LAST-MODIFIED:20230405T012603Z
UID:5620-1683225000-1683225000@www.tbcdubois.org
SUMMARY:Men's Bible Study
DESCRIPTION:
URL:http://www.tbcdubois.org/event/mens-bible-study-49/
LOCATION:The Next Step Ministries\, 412 Willow Alley\, Reynoldsville\, PA\, 15851\, United States
ORGANIZER;CN="Jim Morrison":MAILTO:tbcyouth@windstream.net
END:VEVENT
BEGIN:VEVENT
DTSTART;TZID=America/New_York:20230504T183000
DTEND;TZID=America/New_York:20230504T183000
DTSTAMP:20260423T043610
CREATED:20230405T012603Z
LAST-MODIFIED:20230405T012603Z
UID:6074-1683225000-1683225000@www.tbcdubois.org
SUMMARY:Men's Bible Study
DESCRIPTION:
URL:http://www.tbcdubois.org/event/mens-bible-study-49-2/
LOCATION:The Next Step Ministries\, 412 Willow Alley\, Reynoldsville\, PA\, 15851\, United States
ORGANIZER;CN="Jim Morrison":MAILTO:tbcyouth@windstream.net
END:VEVENT
BEGIN:VEVENT
DTSTART;TZID=America/New_York:20230427T183000
DTEND;TZID=America/New_York:20230427T183000
DTSTAMP:20260423T043610
CREATED:20230405T012429Z
LAST-MODIFIED:20230405T012429Z
UID:5616-1682620200-1682620200@www.tbcdubois.org
SUMMARY:Men's Bible Study
DESCRIPTION:
URL:http://www.tbcdubois.org/event/mens-bible-study-47/
LOCATION:The Next Step Ministries\, 412 Willow Alley\, Reynoldsville\, PA\, 15851\, United States
ORGANIZER;CN="Jim Morrison":MAILTO:tbcyouth@windstream.net
END:VEVENT
BEGIN:VEVENT
DTSTART;TZID=America/New_York:20230427T183000
DTEND;TZID=America/New_York:20230427T183000
DTSTAMP:20260423T043610
CREATED:20230405T012429Z
LAST-MODIFIED:20230405T012429Z
UID:6072-1682620200-1682620200@www.tbcdubois.org
SUMMARY:Men's Bible Study
DESCRIPTION:
URL:http://www.tbcdubois.org/event/mens-bible-study-47-2/
LOCATION:The Next Step Ministries\, 412 Willow Alley\, Reynoldsville\, PA\, 15851\, United States
ORGANIZER;CN="Jim Morrison":MAILTO:tbcyouth@windstream.net
END:VEVENT
BEGIN:VEVENT
DTSTART;TZID=America/New_York:20230420T183000
DTEND;TZID=America/New_York:20230420T183000
DTSTAMP:20260423T043610
CREATED:20230405T012224Z
LAST-MODIFIED:20230405T012334Z
UID:5614-1682015400-1682015400@www.tbcdubois.org
SUMMARY:Men's Bible Study
DESCRIPTION:
URL:http://www.tbcdubois.org/event/mens-bible-study-46/
LOCATION:The Next Step Ministries\, 412 Willow Alley\, Reynoldsville\, PA\, 15851\, United States
ORGANIZER;CN="Jim Morrison":MAILTO:tbcyouth@windstream.net
END:VEVENT
BEGIN:VEVENT
DTSTART;TZID=America/New_York:20230420T183000
DTEND;TZID=America/New_York:20230420T183000
DTSTAMP:20260423T043610
CREATED:20230405T012224Z
LAST-MODIFIED:20230405T012224Z
UID:6066-1682015400-1682015400@www.tbcdubois.org
SUMMARY:Men's Bible Study
DESCRIPTION:
URL:http://www.tbcdubois.org/event/mens-bible-study-46-2/
LOCATION:The Next Step Ministries\, 412 Willow Alley\, Reynoldsville\, PA\, 15851\, United States
ORGANIZER;CN="Jim Morrison":MAILTO:tbcyouth@windstream.net
END:VEVENT
BEGIN:VEVENT
DTSTART;TZID=America/New_York:20230415T080000
DTEND;TZID=America/New_York:20230415T080000
DTSTAMP:20260423T043610
CREATED:20230405T011607Z
LAST-MODIFIED:20230405T011607Z
UID:5609-1681545600-1681545600@www.tbcdubois.org
SUMMARY:Men's Prayer Breakfast
DESCRIPTION:Come join us for a time of food and fellowship.
URL:http://www.tbcdubois.org/event/mens-prayer-breakfast-13/
LOCATION:Temple Baptist Church Fellowship Hall\, 590 Lincoln Drive\, DuBois\, PA\, 15801\, United States
END:VEVENT
BEGIN:VEVENT
DTSTART;TZID=America/New_York:20230415T080000
DTEND;TZID=America/New_York:20230415T080000
DTSTAMP:20260423T043610
CREATED:20230405T011607Z
LAST-MODIFIED:20230405T011607Z
UID:6065-1681545600-1681545600@www.tbcdubois.org
SUMMARY:Men's Prayer Breakfast
DESCRIPTION:Come join us for a time of food and fellowship.
URL:http://www.tbcdubois.org/event/mens-prayer-breakfast-13-2/
LOCATION:Temple Baptist Church Fellowship Hall\, 590 Lincoln Drive\, DuBois\, PA\, 15801\, United States
END:VEVENT
BEGIN:VEVENT
DTSTART;TZID=America/New_York:20230413T183000
DTEND;TZID=America/New_York:20230413T183000
DTSTAMP:20260423T043610
CREATED:20230405T012523Z
LAST-MODIFIED:20230405T012523Z
UID:5618-1681410600-1681410600@www.tbcdubois.org
SUMMARY:Men's Bible Study
DESCRIPTION:
URL:http://www.tbcdubois.org/event/mens-bible-study-48/
LOCATION:The Next Step Ministries\, 412 Willow Alley\, Reynoldsville\, PA\, 15851\, United States
ORGANIZER;CN="Jim Morrison":MAILTO:tbcyouth@windstream.net
END:VEVENT
BEGIN:VEVENT
DTSTART;TZID=America/New_York:20230413T183000
DTEND;TZID=America/New_York:20230413T183000
DTSTAMP:20260423T043610
CREATED:20230405T012523Z
LAST-MODIFIED:20230405T012523Z
UID:6073-1681410600-1681410600@www.tbcdubois.org
SUMMARY:Men's Bible Study
DESCRIPTION:
URL:http://www.tbcdubois.org/event/mens-bible-study-48-2/
LOCATION:The Next Step Ministries\, 412 Willow Alley\, Reynoldsville\, PA\, 15851\, United States
ORGANIZER;CN="Jim Morrison":MAILTO:tbcyouth@windstream.net
END:VEVENT
BEGIN:VEVENT
DTSTART;TZID=America/New_York:20230330T183000
DTEND;TZID=America/New_York:20230330T183000
DTSTAMP:20260423T043610
CREATED:20230302T005911Z
LAST-MODIFIED:20230302T005911Z
UID:5572-1680201000-1680201000@www.tbcdubois.org
SUMMARY:Men's Bible Study
DESCRIPTION:Come join us for a time of fellowship and studying God’s word.
URL:http://www.tbcdubois.org/event/mens-bible-study-45/
LOCATION:The Next Step Ministries\, 412 Willow Alley\, Reynoldsville\, PA\, 15851\, United States
ORGANIZER;CN="Jim Morrison":MAILTO:tbcyouth@windstream.net
END:VEVENT
BEGIN:VEVENT
DTSTART;TZID=America/New_York:20230330T183000
DTEND;TZID=America/New_York:20230330T183000
DTSTAMP:20260423T043610
CREATED:20230302T005911Z
LAST-MODIFIED:20230302T005911Z
UID:6059-1680201000-1680201000@www.tbcdubois.org
SUMMARY:Men's Bible Study
DESCRIPTION:Come join us for a time of fellowship and studying God’s word.
URL:http://www.tbcdubois.org/event/mens-bible-study-45-2/
LOCATION:The Next Step Ministries\, 412 Willow Alley\, Reynoldsville\, PA\, 15851\, United States
ORGANIZER;CN="Jim Morrison":MAILTO:tbcyouth@windstream.net
END:VEVENT
BEGIN:VEVENT
DTSTART;TZID=America/New_York:20230325T180000
DTEND;TZID=America/New_York:20230325T180000
DTSTAMP:20260423T043610
CREATED:20230302T010814Z
LAST-MODIFIED:20230302T010814Z
UID:5576-1679767200-1679767200@www.tbcdubois.org
SUMMARY:Game Night
DESCRIPTION:Come for a time of fellowship and fun.  Bring your favorite snack and game.  Hope to see you there! 🙂
URL:http://www.tbcdubois.org/event/game-night-2/
LOCATION:Temple Baptist Church Fellowship Hall\, 590 Lincoln Drive\, DuBois\, PA\, 15801\, United States
END:VEVENT
BEGIN:VEVENT
DTSTART;TZID=America/New_York:20230325T180000
DTEND;TZID=America/New_York:20230325T180000
DTSTAMP:20260423T043610
CREATED:20230302T010814Z
LAST-MODIFIED:20230302T010814Z
UID:6061-1679767200-1679767200@www.tbcdubois.org
SUMMARY:Game Night
DESCRIPTION:Come for a time of fellowship and fun.  Bring your favorite snack and game.  Hope to see you there! 🙂
URL:http://www.tbcdubois.org/event/game-night-2-2/
LOCATION:Temple Baptist Church Fellowship Hall\, 590 Lincoln Drive\, DuBois\, PA\, 15801\, United States
END:VEVENT
BEGIN:VEVENT
DTSTART;TZID=America/New_York:20230323T183000
DTEND;TZID=America/New_York:20230323T183000
DTSTAMP:20260423T043610
CREATED:20230302T005827Z
LAST-MODIFIED:20230302T005827Z
UID:5570-1679596200-1679596200@www.tbcdubois.org
SUMMARY:Men's Bible Study
DESCRIPTION:Come join us for a time of fellowship and studying God’s word.
URL:http://www.tbcdubois.org/event/mens-bible-study-44/
LOCATION:The Next Step Ministries\, 412 Willow Alley\, Reynoldsville\, PA\, 15851\, United States
END:VEVENT
BEGIN:VEVENT
DTSTART;TZID=America/New_York:20230323T183000
DTEND;TZID=America/New_York:20230323T183000
DTSTAMP:20260423T043610
CREATED:20230302T005827Z
LAST-MODIFIED:20230302T005827Z
UID:6058-1679596200-1679596200@www.tbcdubois.org
SUMMARY:Men's Bible Study
DESCRIPTION:Come join us for a time of fellowship and studying God’s word.
URL:http://www.tbcdubois.org/event/mens-bible-study-44-2/
LOCATION:The Next Step Ministries\, 412 Willow Alley\, Reynoldsville\, PA\, 15851\, United States
END:VEVENT
BEGIN:VEVENT
DTSTART;TZID=America/New_York:20230321T183000
DTEND;TZID=America/New_York:20230321T183000
DTSTAMP:20260423T043610
CREATED:20230302T005446Z
LAST-MODIFIED:20230302T005446Z
UID:5562-1679423400-1679423400@www.tbcdubois.org
SUMMARY:women's Bible Study - Ruth
DESCRIPTION:Come join us for a time of fellowship and studying God’s word.
URL:http://www.tbcdubois.org/event/womens-bible-study-ruth-3/
LOCATION:Word of Life Bible Institute\, Pottersville\, NY\, United States
END:VEVENT
BEGIN:VEVENT
DTSTART;TZID=America/New_York:20230321T183000
DTEND;TZID=America/New_York:20230321T183000
DTSTAMP:20260423T043610
CREATED:20230302T005446Z
LAST-MODIFIED:20230302T005446Z
UID:6054-1679423400-1679423400@www.tbcdubois.org
SUMMARY:women's Bible Study - Ruth
DESCRIPTION:Come join us for a time of fellowship and studying God’s word.
URL:http://www.tbcdubois.org/event/womens-bible-study-ruth-3-2/
LOCATION:Word of Life Bible Institute\, Pottersville\, NY\, United States
END:VEVENT
BEGIN:VEVENT
DTSTART;TZID=America/New_York:20230319T110000
DTEND;TZID=America/New_York:20230319T120000
DTSTAMP:20260423T043610
CREATED:20230302T010623Z
LAST-MODIFIED:20230302T010623Z
UID:5574-1679223600-1679227200@www.tbcdubois.org
SUMMARY:Baptism Service
DESCRIPTION:Meeting is on the 12th for those who have spoken to the pastor and wish to be baptized.
URL:http://www.tbcdubois.org/event/baptism-service/
LOCATION:Temple Baptist Church Sanctuary\, 590 Lincoln Drive\, DuBois\, PA\, 15801\, United States
END:VEVENT
BEGIN:VEVENT
DTSTART;TZID=America/New_York:20230319T110000
DTEND;TZID=America/New_York:20230319T120000
DTSTAMP:20260423T043610
CREATED:20230302T010623Z
LAST-MODIFIED:20230302T010623Z
UID:6060-1679223600-1679227200@www.tbcdubois.org
SUMMARY:Baptism Service
DESCRIPTION:Meeting is on the 12th for those who have spoken to the pastor and wish to be baptized.
URL:http://www.tbcdubois.org/event/baptism-service-2/
LOCATION:Temple Baptist Church Sanctuary\, 590 Lincoln Drive\, DuBois\, PA\, 15801\, United States
END:VEVENT
BEGIN:VEVENT
DTSTART;TZID=America/New_York:20230318T143000
DTEND;TZID=America/New_York:20230318T170000
DTSTAMP:20260423T043610
CREATED:20230302T011744Z
LAST-MODIFIED:20230302T012042Z
UID:5578-1679149800-1679158800@www.tbcdubois.org
SUMMARY:Paint Class - Grades K-12
DESCRIPTION:Come have some fun and learn to paint!  There will be two different projects. Children K-5 will be painting a cute jelly fish and Grades 6-12 will be painting a beautiful sunset. There are limited spots.  Don’t delay and miss out.  Sign up today on the church bulletin board. \nSee Rachel Dwire for any questions.
URL:http://www.tbcdubois.org/event/paint-class-grades-k-12/
LOCATION:Temple Baptist Church Fellowship Hall\, 590 Lincoln Drive\, DuBois\, PA\, 15801\, United States
ORGANIZER;CN="Rachel Dwire":MAILTO:racheldwire@yahoo.com
END:VEVENT
BEGIN:VEVENT
DTSTART;TZID=America/New_York:20230318T143000
DTEND;TZID=America/New_York:20230318T170000
DTSTAMP:20260423T043610
CREATED:20230302T011744Z
LAST-MODIFIED:20230302T011744Z
UID:6062-1679149800-1679158800@www.tbcdubois.org
SUMMARY:Paint Class - Grades K-12
DESCRIPTION:Come have some fun and learn to paint!  There will be two different projects. Children K-5 will be painting a cute jelly fish and Grades 6-12 will be painting a beautiful sunset. There are limited spots.  Don’t delay and miss out.  Sign up today on the church bulletin board. \nSee Rachel Dwire for any questions.
URL:http://www.tbcdubois.org/event/paint-class-grades-k-12-2/
LOCATION:Temple Baptist Church Fellowship Hall\, 590 Lincoln Drive\, DuBois\, PA\, 15801\, United States
ORGANIZER;CN="Rachel Dwire":MAILTO:racheldwire@yahoo.com
END:VEVENT
BEGIN:VEVENT
DTSTART;TZID=America/New_York:20230316T183000
DTEND;TZID=America/New_York:20230316T183000
DTSTAMP:20260423T043610
CREATED:20230302T005742Z
LAST-MODIFIED:20230302T005742Z
UID:5568-1678991400-1678991400@www.tbcdubois.org
SUMMARY:Men's Bible Study
DESCRIPTION:Come join us for a time of fellowship and studying God’s word.
URL:http://www.tbcdubois.org/event/mens-bible-study-43/
LOCATION:The Next Step Ministries\, 412 Willow Alley\, Reynoldsville\, PA\, 15851\, United States
ORGANIZER;CN="Jim Morrison":MAILTO:tbcyouth@windstream.net
END:VEVENT
BEGIN:VEVENT
DTSTART;TZID=America/New_York:20230316T183000
DTEND;TZID=America/New_York:20230316T183000
DTSTAMP:20260423T043610
CREATED:20230302T005742Z
LAST-MODIFIED:20230302T005742Z
UID:6057-1678991400-1678991400@www.tbcdubois.org
SUMMARY:Men's Bible Study
DESCRIPTION:Come join us for a time of fellowship and studying God’s word.
URL:http://www.tbcdubois.org/event/mens-bible-study-43-2/
LOCATION:The Next Step Ministries\, 412 Willow Alley\, Reynoldsville\, PA\, 15851\, United States
ORGANIZER;CN="Jim Morrison":MAILTO:tbcyouth@windstream.net
END:VEVENT
BEGIN:VEVENT
DTSTART;TZID=America/New_York:20230314T183000
DTEND;TZID=America/New_York:20230314T183000
DTSTAMP:20260423T043610
CREATED:20230302T005351Z
LAST-MODIFIED:20230302T005351Z
UID:5560-1678818600-1678818600@www.tbcdubois.org
SUMMARY:Women's Bible Study - Ruth
DESCRIPTION:Come join us for a time of fellowship and studying God’s word.
URL:http://www.tbcdubois.org/event/womens-bible-study-ruth-2/
LOCATION:The Next Step Ministries\, 412 Willow Alley\, Reynoldsville\, PA\, 15851\, United States
END:VEVENT
BEGIN:VEVENT
DTSTART;TZID=America/New_York:20230314T183000
DTEND;TZID=America/New_York:20230314T183000
DTSTAMP:20260423T043610
CREATED:20230302T005351Z
LAST-MODIFIED:20230302T005351Z
UID:6053-1678818600-1678818600@www.tbcdubois.org
SUMMARY:Women's Bible Study - Ruth
DESCRIPTION:Come join us for a time of fellowship and studying God’s word.
URL:http://www.tbcdubois.org/event/womens-bible-study-ruth-2-2/
LOCATION:The Next Step Ministries\, 412 Willow Alley\, Reynoldsville\, PA\, 15851\, United States
END:VEVENT
BEGIN:VEVENT
DTSTART;TZID=America/New_York:20230312T110000
DTEND;TZID=America/New_York:20230312T120000
DTSTAMP:20260423T043610
CREATED:20230302T012802Z
LAST-MODIFIED:20230302T012802Z
UID:5582-1678618800-1678622400@www.tbcdubois.org
SUMMARY:Communion Service
DESCRIPTION:
URL:http://www.tbcdubois.org/event/communion-service/
LOCATION:Temple Baptist Church Sanctuary\, 590 Lincoln Drive\, DuBois\, PA\, 15801\, United States
END:VEVENT
BEGIN:VEVENT
DTSTART;TZID=America/New_York:20230312T110000
DTEND;TZID=America/New_York:20230312T120000
DTSTAMP:20260423T043610
CREATED:20230302T012802Z
LAST-MODIFIED:20230302T012802Z
UID:6063-1678618800-1678622400@www.tbcdubois.org
SUMMARY:Communion Service
DESCRIPTION:
URL:http://www.tbcdubois.org/event/communion-service-3/
LOCATION:Temple Baptist Church Sanctuary\, 590 Lincoln Drive\, DuBois\, PA\, 15801\, United States
END:VEVENT
END:VCALENDAR