BEGIN:VCALENDAR
VERSION:2.0
PRODID:-//Temple Baptist Church - ECPv6.15.20//NONSGML v1.0//EN
CALSCALE:GREGORIAN
METHOD:PUBLISH
X-WR-CALNAME:Temple Baptist Church
X-ORIGINAL-URL:http://www.tbcdubois.org
X-WR-CALDESC:Events for Temple Baptist Church
REFRESH-INTERVAL;VALUE=DURATION:PT1H
X-Robots-Tag:noindex
X-PUBLISHED-TTL:PT1H
BEGIN:VTIMEZONE
TZID:America/New_York
BEGIN:DAYLIGHT
TZOFFSETFROM:-0500
TZOFFSETTO:-0400
TZNAME:EDT
DTSTART:20210314T070000
END:DAYLIGHT
BEGIN:STANDARD
TZOFFSETFROM:-0400
TZOFFSETTO:-0500
TZNAME:EST
DTSTART:20211107T060000
END:STANDARD
BEGIN:DAYLIGHT
TZOFFSETFROM:-0500
TZOFFSETTO:-0400
TZNAME:EDT
DTSTART:20220313T070000
END:DAYLIGHT
BEGIN:STANDARD
TZOFFSETFROM:-0400
TZOFFSETTO:-0500
TZNAME:EST
DTSTART:20221106T060000
END:STANDARD
BEGIN:DAYLIGHT
TZOFFSETFROM:-0500
TZOFFSETTO:-0400
TZNAME:EDT
DTSTART:20230312T070000
END:DAYLIGHT
BEGIN:STANDARD
TZOFFSETFROM:-0400
TZOFFSETTO:-0500
TZNAME:EST
DTSTART:20231105T060000
END:STANDARD
BEGIN:DAYLIGHT
TZOFFSETFROM:-0500
TZOFFSETTO:-0400
TZNAME:EDT
DTSTART:20240310T070000
END:DAYLIGHT
BEGIN:STANDARD
TZOFFSETFROM:-0400
TZOFFSETTO:-0500
TZNAME:EST
DTSTART:20241103T060000
END:STANDARD
END:VTIMEZONE
BEGIN:VEVENT
DTSTART;TZID=America/New_York:20221225T110000
DTEND;TZID=America/New_York:20221225T110000
DTSTAMP:20260421T033101
CREATED:20221129T140804Z
LAST-MODIFIED:20221129T140853Z
UID:5436-1671966000-1671966000@www.tbcdubois.org
SUMMARY:Morning Service Only
DESCRIPTION:We will only be having our morning service.  There will be no evening service.  Enjoy this time with you family reflecting on the birth of our Saviour.
URL:http://www.tbcdubois.org/event/morning-service-only/
LOCATION:Temple Baptist Church Sanctuary\, 590 Lincoln Drive\, DuBois\, PA\, 15801\, United States
END:VEVENT
BEGIN:VEVENT
DTSTART;TZID=America/New_York:20221225T110000
DTEND;TZID=America/New_York:20221225T110000
DTSTAMP:20260421T033101
CREATED:20221129T140804Z
LAST-MODIFIED:20221129T140804Z
UID:6037-1671966000-1671966000@www.tbcdubois.org
SUMMARY:Morning Service Only
DESCRIPTION:We will only be having our morning service.  There will be no evening service.  Enjoy this time with you family reflecting on the birth of our Saviour.
URL:http://www.tbcdubois.org/event/morning-service-only-2/
LOCATION:Temple Baptist Church Sanctuary\, 590 Lincoln Drive\, DuBois\, PA\, 15801\, United States
END:VEVENT
BEGIN:VEVENT
DTSTART;TZID=America/New_York:20230105T183000
DTEND;TZID=America/New_York:20230105T183000
DTSTAMP:20260421T033101
CREATED:20230102T131250Z
LAST-MODIFIED:20230102T131300Z
UID:5460-1672943400-1672943400@www.tbcdubois.org
SUMMARY:Men's Bible Study
DESCRIPTION:Come Join us for a time of fellowship and studying God’s word. \nWe will be studying “The Pursuit of Manliness” by Jarrett Samuels
URL:http://www.tbcdubois.org/event/mens-bible-study-34/
LOCATION:The Next Step Ministries\, 412 Willow Alley\, Reynoldsville\, PA\, 15851\, United States
ORGANIZER;CN="Jim Morrison":MAILTO:tbcyouth@windstream.net
END:VEVENT
BEGIN:VEVENT
DTSTART;TZID=America/New_York:20230105T183000
DTEND;TZID=America/New_York:20230105T183000
DTSTAMP:20260421T033101
CREATED:20230102T131250Z
LAST-MODIFIED:20230102T131250Z
UID:6038-1672943400-1672943400@www.tbcdubois.org
SUMMARY:Men's Bible Study
DESCRIPTION:Come Join us for a time of fellowship and studying God’s word. \nWe will be studying “The Pursuit of Manliness” by Jarrett Samuels
URL:http://www.tbcdubois.org/event/mens-bible-study-34-2/
LOCATION:The Next Step Ministries\, 412 Willow Alley\, Reynoldsville\, PA\, 15851\, United States
ORGANIZER;CN="Jim Morrison":MAILTO:tbcyouth@windstream.net
END:VEVENT
BEGIN:VEVENT
DTSTART;TZID=America/New_York:20230112T183000
DTEND;TZID=America/New_York:20230112T183000
DTSTAMP:20260421T033101
CREATED:20230102T131519Z
LAST-MODIFIED:20230102T131632Z
UID:5462-1673548200-1673548200@www.tbcdubois.org
SUMMARY:Men's Bible Study
DESCRIPTION:Come Join us for a time of fellowship and studying God’s word. \nWe will be studying “The Pursuit of Manliness” by Jarrett Samuels
URL:http://www.tbcdubois.org/event/mens-bible-study-35/
LOCATION:The Next Step Ministries\, 412 Willow Alley\, Reynoldsville\, PA\, 15851\, United States
ORGANIZER;CN="Jim Morrison":MAILTO:tbcyouth@windstream.net
END:VEVENT
BEGIN:VEVENT
DTSTART;TZID=America/New_York:20230112T183000
DTEND;TZID=America/New_York:20230112T183000
DTSTAMP:20260421T033101
CREATED:20230102T131519Z
LAST-MODIFIED:20230102T131519Z
UID:6039-1673548200-1673548200@www.tbcdubois.org
SUMMARY:Men's Bible Study
DESCRIPTION:Come Join us for a time of fellowship and studying God’s word. \nWe will be studying “The Pursuit of Manliness” by Jarrett Samuels
URL:http://www.tbcdubois.org/event/mens-bible-study-35-2/
LOCATION:The Next Step Ministries\, 412 Willow Alley\, Reynoldsville\, PA\, 15851\, United States
ORGANIZER;CN="Jim Morrison":MAILTO:tbcyouth@windstream.net
END:VEVENT
BEGIN:VEVENT
DTSTART;TZID=America/New_York:20230119T183000
DTEND;TZID=America/New_York:20230119T183000
DTSTAMP:20260421T033101
CREATED:20230102T131727Z
LAST-MODIFIED:20230102T131734Z
UID:5464-1674153000-1674153000@www.tbcdubois.org
SUMMARY:Men's Bible Study
DESCRIPTION:Come Join us for a time of fellowship and studying God’s word. \nWe will be studying “The Pursuit of Manliness” by Jarrett Samuels
URL:http://www.tbcdubois.org/event/mens-bible-study-36/
LOCATION:The Next Step Ministries\, 412 Willow Alley\, Reynoldsville\, PA\, 15851\, United States
ORGANIZER;CN="Jim Morrison":MAILTO:tbcyouth@windstream.net
END:VEVENT
BEGIN:VEVENT
DTSTART;TZID=America/New_York:20230119T183000
DTEND;TZID=America/New_York:20230119T183000
DTSTAMP:20260421T033101
CREATED:20230102T131727Z
LAST-MODIFIED:20230102T131727Z
UID:6040-1674153000-1674153000@www.tbcdubois.org
SUMMARY:Men's Bible Study
DESCRIPTION:Come Join us for a time of fellowship and studying God’s word. \nWe will be studying “The Pursuit of Manliness” by Jarrett Samuels
URL:http://www.tbcdubois.org/event/mens-bible-study-36-2/
LOCATION:The Next Step Ministries\, 412 Willow Alley\, Reynoldsville\, PA\, 15851\, United States
ORGANIZER;CN="Jim Morrison":MAILTO:tbcyouth@windstream.net
END:VEVENT
BEGIN:VEVENT
DTSTART;TZID=America/New_York:20230121T080000
DTEND;TZID=America/New_York:20230121T170000
DTSTAMP:20260421T033101
CREATED:20230102T132832Z
LAST-MODIFIED:20230102T132839Z
UID:5470-1674288000-1674320400@www.tbcdubois.org
SUMMARY:Men's Prayer Breakfast
DESCRIPTION:Come join us for a time of fellowship and prayer.
URL:http://www.tbcdubois.org/event/mens-prayer-breakfast-11/
LOCATION:Temple Baptist Church Sanctuary\, 590 Lincoln Drive\, DuBois\, PA\, 15801\, United States
END:VEVENT
BEGIN:VEVENT
DTSTART;TZID=America/New_York:20230121T080000
DTEND;TZID=America/New_York:20230121T170000
DTSTAMP:20260421T033101
CREATED:20230102T132832Z
LAST-MODIFIED:20230102T132832Z
UID:6043-1674288000-1674320400@www.tbcdubois.org
SUMMARY:Men's Prayer Breakfast
DESCRIPTION:Come join us for a time of fellowship and prayer.
URL:http://www.tbcdubois.org/event/mens-prayer-breakfast-11-2/
LOCATION:Temple Baptist Church Sanctuary\, 590 Lincoln Drive\, DuBois\, PA\, 15801\, United States
END:VEVENT
BEGIN:VEVENT
DTSTART;TZID=America/New_York:20230126T183000
DTEND;TZID=America/New_York:20230126T183000
DTSTAMP:20260421T033101
CREATED:20230102T131830Z
LAST-MODIFIED:20230102T131836Z
UID:5466-1674757800-1674757800@www.tbcdubois.org
SUMMARY:Men's Bible Study
DESCRIPTION:Come Join us for a time of fellowship and studying God’s word. \nWe will be studying “The Pursuit of Manliness” by Jarrett Samuels
URL:http://www.tbcdubois.org/event/mens-bible-study-37/
LOCATION:The Next Step Ministries\, 412 Willow Alley\, Reynoldsville\, PA\, 15851\, United States
ORGANIZER;CN="Jim Morrison":MAILTO:tbcyouth@windstream.net
END:VEVENT
BEGIN:VEVENT
DTSTART;TZID=America/New_York:20230126T183000
DTEND;TZID=America/New_York:20230126T183000
DTSTAMP:20260421T033101
CREATED:20230102T131830Z
LAST-MODIFIED:20230102T131830Z
UID:6041-1674757800-1674757800@www.tbcdubois.org
SUMMARY:Men's Bible Study
DESCRIPTION:Come Join us for a time of fellowship and studying God’s word. \nWe will be studying “The Pursuit of Manliness” by Jarrett Samuels
URL:http://www.tbcdubois.org/event/mens-bible-study-37-2/
LOCATION:The Next Step Ministries\, 412 Willow Alley\, Reynoldsville\, PA\, 15851\, United States
ORGANIZER;CN="Jim Morrison":MAILTO:tbcyouth@windstream.net
END:VEVENT
BEGIN:VEVENT
DTSTART;TZID=America/New_York:20230131T183000
DTEND;TZID=America/New_York:20230131T183000
DTSTAMP:20260421T033101
CREATED:20230102T132456Z
LAST-MODIFIED:20230102T132501Z
UID:5468-1675189800-1675189800@www.tbcdubois.org
SUMMARY:Women's Bible Study
DESCRIPTION:Come Join us for a time of fellowship and studying God’s word as we begin the study of Ruth.
URL:http://www.tbcdubois.org/event/womens-bible-study-18/
LOCATION:The Next Step Ministries\, 412 Willow Alley\, Reynoldsville\, PA\, 15851\, United States
END:VEVENT
BEGIN:VEVENT
DTSTART;TZID=America/New_York:20230131T183000
DTEND;TZID=America/New_York:20230131T183000
DTSTAMP:20260421T033101
CREATED:20230102T132456Z
LAST-MODIFIED:20230102T132456Z
UID:6042-1675189800-1675189800@www.tbcdubois.org
SUMMARY:Women's Bible Study
DESCRIPTION:Come Join us for a time of fellowship and studying God’s word as we begin the study of Ruth.
URL:http://www.tbcdubois.org/event/womens-bible-study-18-2/
LOCATION:The Next Step Ministries\, 412 Willow Alley\, Reynoldsville\, PA\, 15851\, United States
END:VEVENT
BEGIN:VEVENT
DTSTART;TZID=America/New_York:20230207T183000
DTEND;TZID=America/New_York:20230207T183000
DTSTAMP:20260421T033101
CREATED:20230206T230351Z
LAST-MODIFIED:20230206T231256Z
UID:5501-1675794600-1675794600@www.tbcdubois.org
SUMMARY:Women's Bible Study
DESCRIPTION:Come join us for a study on Ruth by Kelly Minter.
URL:http://www.tbcdubois.org/event/womens-bible-study-19/
LOCATION:The Next Step Ministries\, 412 Willow Alley\, Reynoldsville\, PA\, 15851\, United States
ORGANIZER;CN="Teresa Morrison":MAILTO:thenextstep@comcast.net
END:VEVENT
BEGIN:VEVENT
DTSTART;TZID=America/New_York:20230207T183000
DTEND;TZID=America/New_York:20230207T183000
DTSTAMP:20260421T033101
CREATED:20230206T230351Z
LAST-MODIFIED:20230206T230351Z
UID:6044-1675794600-1675794600@www.tbcdubois.org
SUMMARY:Women's Bible Study
DESCRIPTION:Come join us for a study on Ruth by Kelly Minter.
URL:http://www.tbcdubois.org/event/womens-bible-study-19-2/
LOCATION:The Next Step Ministries\, 412 Willow Alley\, Reynoldsville\, PA\, 15851\, United States
ORGANIZER;CN="Teresa Morrison":MAILTO:thenextstep@comcast.net
END:VEVENT
BEGIN:VEVENT
DTSTART;TZID=America/New_York:20230209T183000
DTEND;TZID=America/New_York:20230209T183000
DTSTAMP:20260421T033101
CREATED:20230206T230950Z
LAST-MODIFIED:20230206T230955Z
UID:5510-1675967400-1675967400@www.tbcdubois.org
SUMMARY:Men's Bible Study
DESCRIPTION:Come join us for a time of fellowship and studying God’s word.
URL:http://www.tbcdubois.org/event/mens-bible-study-38/
LOCATION:The Next Step Ministries\, 412 Willow Alley\, Reynoldsville\, PA\, 15851\, United States
ORGANIZER;CN="Jim Morrison":MAILTO:tbcyouth@windstream.net
END:VEVENT
BEGIN:VEVENT
DTSTART;TZID=America/New_York:20230209T183000
DTEND;TZID=America/New_York:20230209T183000
DTSTAMP:20260421T033101
CREATED:20230206T230950Z
LAST-MODIFIED:20230206T230950Z
UID:6048-1675967400-1675967400@www.tbcdubois.org
SUMMARY:Men's Bible Study
DESCRIPTION:Come join us for a time of fellowship and studying God’s word.
URL:http://www.tbcdubois.org/event/mens-bible-study-38-2/
LOCATION:The Next Step Ministries\, 412 Willow Alley\, Reynoldsville\, PA\, 15851\, United States
ORGANIZER;CN="Jim Morrison":MAILTO:tbcyouth@windstream.net
END:VEVENT
BEGIN:VEVENT
DTSTART;TZID=America/New_York:20230214T183000
DTEND;TZID=America/New_York:20230214T183000
DTSTAMP:20260421T033101
CREATED:20230206T230449Z
LAST-MODIFIED:20230206T230517Z
UID:5503-1676399400-1676399400@www.tbcdubois.org
SUMMARY:Women's Bible Study
DESCRIPTION:Come join us for a study on Ruth by Kelly Minter.
URL:http://www.tbcdubois.org/event/womens-bible-study-20/
LOCATION:The Next Step Ministries\, 412 Willow Alley\, Reynoldsville\, PA\, 15851\, United States
ORGANIZER;CN="Teresa Morrison":MAILTO:thenextstep@comcast.net
END:VEVENT
BEGIN:VEVENT
DTSTART;TZID=America/New_York:20230214T183000
DTEND;TZID=America/New_York:20230214T183000
DTSTAMP:20260421T033101
CREATED:20230206T230449Z
LAST-MODIFIED:20230206T230449Z
UID:6045-1676399400-1676399400@www.tbcdubois.org
SUMMARY:Women's Bible Study
DESCRIPTION:Come join us for a study on Ruth by Kelly Minter.
URL:http://www.tbcdubois.org/event/womens-bible-study-20-2/
LOCATION:The Next Step Ministries\, 412 Willow Alley\, Reynoldsville\, PA\, 15851\, United States
ORGANIZER;CN="Teresa Morrison":MAILTO:thenextstep@comcast.net
END:VEVENT
BEGIN:VEVENT
DTSTART;TZID=America/New_York:20230216T183000
DTEND;TZID=America/New_York:20230216T183000
DTSTAMP:20260421T033101
CREATED:20230206T231045Z
LAST-MODIFIED:20230206T231050Z
UID:5512-1676572200-1676572200@www.tbcdubois.org
SUMMARY:Men's Bible Study
DESCRIPTION:Come join us for a time of fellowship and studying God’s word.
URL:http://www.tbcdubois.org/event/mens-bible-study-39/
LOCATION:The Next Step Ministries\, 412 Willow Alley\, Reynoldsville\, PA\, 15851\, United States
ORGANIZER;CN="Jim Morrison":MAILTO:tbcyouth@windstream.net
END:VEVENT
BEGIN:VEVENT
DTSTART;TZID=America/New_York:20230216T183000
DTEND;TZID=America/New_York:20230216T183000
DTSTAMP:20260421T033101
CREATED:20230206T231045Z
LAST-MODIFIED:20230206T231045Z
UID:6049-1676572200-1676572200@www.tbcdubois.org
SUMMARY:Men's Bible Study
DESCRIPTION:Come join us for a time of fellowship and studying God’s word.
URL:http://www.tbcdubois.org/event/mens-bible-study-39-2/
LOCATION:The Next Step Ministries\, 412 Willow Alley\, Reynoldsville\, PA\, 15851\, United States
ORGANIZER;CN="Jim Morrison":MAILTO:tbcyouth@windstream.net
END:VEVENT
BEGIN:VEVENT
DTSTART;TZID=America/New_York:20230221T183000
DTEND;TZID=America/New_York:20230221T183000
DTSTAMP:20260421T033101
CREATED:20230206T230608Z
LAST-MODIFIED:20230206T230614Z
UID:5505-1677004200-1677004200@www.tbcdubois.org
SUMMARY:Women's Bible Study
DESCRIPTION:Come join us for a study on Ruth by Kelly Minter.
URL:http://www.tbcdubois.org/event/womens-bible-study-21/
LOCATION:The Next Step Ministries\, 412 Willow Alley\, Reynoldsville\, PA\, 15851\, United States
ORGANIZER;CN="Teresa Morrison":MAILTO:thenextstep@comcast.net
END:VEVENT
BEGIN:VEVENT
DTSTART;TZID=America/New_York:20230221T183000
DTEND;TZID=America/New_York:20230221T183000
DTSTAMP:20260421T033101
CREATED:20230206T230608Z
LAST-MODIFIED:20230206T230608Z
UID:6046-1677004200-1677004200@www.tbcdubois.org
SUMMARY:Women's Bible Study
DESCRIPTION:Come join us for a study on Ruth by Kelly Minter.
URL:http://www.tbcdubois.org/event/womens-bible-study-21-2/
LOCATION:The Next Step Ministries\, 412 Willow Alley\, Reynoldsville\, PA\, 15851\, United States
ORGANIZER;CN="Teresa Morrison":MAILTO:thenextstep@comcast.net
END:VEVENT
BEGIN:VEVENT
DTSTART;TZID=America/New_York:20230223T183000
DTEND;TZID=America/New_York:20230223T183000
DTSTAMP:20260421T033101
CREATED:20230206T231143Z
LAST-MODIFIED:20230206T231149Z
UID:5514-1677177000-1677177000@www.tbcdubois.org
SUMMARY:Men's Bible Study
DESCRIPTION:Come join us for a time of fellowship and studying God’s word.
URL:http://www.tbcdubois.org/event/mens-bible-study-40/
LOCATION:The Next Step Ministries\, 412 Willow Alley\, Reynoldsville\, PA\, 15851\, United States
ORGANIZER;CN="Jim Morrison":MAILTO:tbcyouth@windstream.net
END:VEVENT
BEGIN:VEVENT
DTSTART;TZID=America/New_York:20230223T183000
DTEND;TZID=America/New_York:20230223T183000
DTSTAMP:20260421T033101
CREATED:20230206T231143Z
LAST-MODIFIED:20230206T231143Z
UID:6050-1677177000-1677177000@www.tbcdubois.org
SUMMARY:Men's Bible Study
DESCRIPTION:Come join us for a time of fellowship and studying God’s word.
URL:http://www.tbcdubois.org/event/mens-bible-study-40-2/
LOCATION:The Next Step Ministries\, 412 Willow Alley\, Reynoldsville\, PA\, 15851\, United States
ORGANIZER;CN="Jim Morrison":MAILTO:tbcyouth@windstream.net
END:VEVENT
BEGIN:VEVENT
DTSTART;TZID=America/New_York:20230225T080000
DTEND;TZID=America/New_York:20230225T080000
DTSTAMP:20260421T033101
CREATED:20230206T231448Z
LAST-MODIFIED:20230206T231500Z
UID:5517-1677312000-1677312000@www.tbcdubois.org
SUMMARY:Men's Prayer Breakfast
DESCRIPTION:
URL:http://www.tbcdubois.org/event/mens-prayer-breakfast-12/
LOCATION:Temple Baptist Church Fellowship Hall\, 590 Lincoln Drive\, DuBois\, PA\, 15801\, United States
END:VEVENT
BEGIN:VEVENT
DTSTART;TZID=America/New_York:20230225T080000
DTEND;TZID=America/New_York:20230225T080000
DTSTAMP:20260421T033101
CREATED:20230206T231448Z
LAST-MODIFIED:20230206T231448Z
UID:6051-1677312000-1677312000@www.tbcdubois.org
SUMMARY:Men's Prayer Breakfast
DESCRIPTION:
URL:http://www.tbcdubois.org/event/mens-prayer-breakfast-12-2/
LOCATION:Temple Baptist Church Fellowship Hall\, 590 Lincoln Drive\, DuBois\, PA\, 15801\, United States
END:VEVENT
BEGIN:VEVENT
DTSTART;TZID=America/New_York:20230228T183000
DTEND;TZID=America/New_York:20230228T183000
DTSTAMP:20260421T033101
CREATED:20230206T230658Z
LAST-MODIFIED:20230206T230704Z
UID:5507-1677609000-1677609000@www.tbcdubois.org
SUMMARY:Women's Bible Study
DESCRIPTION:Come join us for a study on Ruth by Kelly Minter.
URL:http://www.tbcdubois.org/event/womens-bible-study-22/
LOCATION:The Next Step Ministries\, 412 Willow Alley\, Reynoldsville\, PA\, 15851\, United States
ORGANIZER;CN="Teresa Morrison":MAILTO:thenextstep@comcast.net
END:VEVENT
BEGIN:VEVENT
DTSTART;TZID=America/New_York:20230228T183000
DTEND;TZID=America/New_York:20230228T183000
DTSTAMP:20260421T033101
CREATED:20230206T230658Z
LAST-MODIFIED:20230206T230658Z
UID:6047-1677609000-1677609000@www.tbcdubois.org
SUMMARY:Women's Bible Study
DESCRIPTION:Come join us for a study on Ruth by Kelly Minter.
URL:http://www.tbcdubois.org/event/womens-bible-study-22-2/
LOCATION:The Next Step Ministries\, 412 Willow Alley\, Reynoldsville\, PA\, 15851\, United States
ORGANIZER;CN="Teresa Morrison":MAILTO:thenextstep@comcast.net
END:VEVENT
END:VCALENDAR